Workbook

Sheet RiepilogoTariffe
A1: COMUNE DI CASELLE LANDI - DETERMINAZIONE TARIFFE TARI 2025
A3: Tariffe Utenze Domestiche | H3: 2024
B5: TARIFFA FISSA (€/mq) | C5: TARIFFA VARIABILE (€/utenza) | H5: TARIFFA FISSA (€/mq) | I5: TARIFFA VARIABILE (€/utenza)
A6: Utenze domestiche con 1 componenti nucleo familiare | B6: =UtenzeDomestiche!M14 -> 0.61606438 | C6: =UtenzeDomestiche!M30 -> 71.455398 | H6: 0.64 | I6: 70.04
A7: Utenze domestiche con 2 componenti nucleo familiare | B7: =UtenzeDomestiche!M15 -> 0.71874178 | C7: =UtenzeDomestiche!M31 -> 127.09939 | H7: 0.75 | I7: 124.43
A8: Utenze domestiche con 3 componenti nucleo familiare | B8: =UtenzeDomestiche!M16 -> 0.79208278 | C8: =UtenzeDomestiche!M32 -> 156.59374 | H8: 0.83 | I8: 153.48
A9: Utenze domestiche con 4 componenti nucleo familiare | B9: =UtenzeDomestiche!M17 -> 0.85075558 | C9: =UtenzeDomestiche!M33 -> 187.91249 | H9: 0.89 | I9: 184.03
A10: Utenze domestiche con 5 componenti nucleo familiare | B10: =UtenzeDomestiche!M18 -> 0.90942837 | C10: =UtenzeDomestiche!M34 -> 229.49345 | H10: 0.95 | I10: 225.01
A11: Utenze domestiche con 6 o più componenti nucleo familiare | B11: =UtenzeDomestiche!M19 -> 0.95343297 | C11: =UtenzeDomestiche!M35 -> 258.4557 | H11: 1 | I11: 253.32
A12: Utenze domestiche tenute a disposizione | B12: =UtenzeDomestiche!M20 -> 0 | C12: =UtenzeDomestiche!M36 -> 0 | H12: 0 | I12: 0
B13: Anche a T. Fissa | C13: indicare con una "X", altrimenti le riduzioni verranno applicate solo alla parte variabile della tariffa
A14: Applica Riduzioni:
A16: Tariffe Utenze Non Domestiche | H16: 2024
B18: TARIFFA FISSA (€/mq) | C18: TARIFFA VARIABILE (€/mq) | D18: TOTALE TARIFFA(€/mq) | F18: Applica riduzione anche a T. Fissa | H18: costi fissi €/mq. per classe | I18: costi variabili €/mq. per classe | J18: totale al mq.
A19: ='DATI INPUT'!A48 -> 01 - Musei, biblioteche, scuole, associazioni, luoghi di culto | B19: =UtenzeNonDomestiche!G93 -> 0.68526949 | C19: =UtenzeNonDomestiche!H93 -> 0.78863802 | D19: =UtenzeNonDomestiche!I93 -> 1.4739075 | F19: x | H19: 0.7 | I19: 0.78 | J19: =H19+I19 -> 1.48
A20: ='DATI INPUT'!A49 -> 02 - Campeggi, distributori carburanti, impianti sportivi | B20: =UtenzeNonDomestiche!G94 -> 1.0749325 | C20: =UtenzeNonDomestiche!H94 -> 1.2298998 | D20: =UtenzeNonDomestiche!I94 -> 2.3048323 | H20: 1.1 | I20: 1.22 | J20: =H20+I20 -> 2.32
A21: ='DATI INPUT'!A50 -> 03 - Stabilimenti balneari | B21: =UtenzeNonDomestiche!G95 -> 0.84650937 | C21: =UtenzeNonDomestiche!H95 -> 0.97640898 | D21: =UtenzeNonDomestiche!I95 -> 1.8229183 | H21: 0.87 | I21: 0.97 | J21: =H21+I21 -> 1.84
A22: ='DATI INPUT'!A51 -> 04 - Esposizioni, autosaloni | B22: =UtenzeNonDomestiche!G96 -> 0.57777623 | C22: =UtenzeNonDomestiche!H96 -> 0.6665869 | D22: =UtenzeNonDomestiche!I96 -> 1.2443631 | F22: indicare con una "X", altrimenti le riduzioni verranno applicate solo alla parte variabile della tariffa | H22: 0.59 | I22: 0.66 | J22: =H22+I22 -> 1.25
A23: ='DATI INPUT'!A52 -> 05 - Alberghi con ristorante | B23: =UtenzeNonDomestiche!G97 -> 1.7870753 | C23: =UtenzeNonDomestiche!H97 -> 2.0523366 | D23: =UtenzeNonDomestiche!I97 -> 3.8394119 | H23: 1.83 | I23: 2.03 | J23: =H23+I23 -> 3.86
A24: ='DATI INPUT'!A53 -> 06 - Alberghi senza ristorante | B24: =UtenzeNonDomestiche!G98 -> 1.2227358 | C24: =UtenzeNonDomestiche!H98 -> 1.4064045 | D24: =UtenzeNonDomestiche!I98 -> 2.6291402 | H24: 1.25 | I24: 1.39 | J24: =H24+I24 -> 2.64
A25: ='DATI INPUT'!A54 -> 07 - Case di cura e riposo | B25: =UtenzeNonDomestiche!G99 -> 1.3436657 | C25: =UtenzeNonDomestiche!H99 -> 1.5378441 | D25: =UtenzeNonDomestiche!I99 -> 2.8815098 | H25: 1.37 | I25: 1.52 | J25: =H25+I25 -> 2.89
A26: ='DATI INPUT'!A55 -> 08 - Uffici, agenzie | B26: =UtenzeNonDomestiche!G100 -> 1.5183422 | C26: =UtenzeNonDomestiche!H100 -> 1.7462699 | D26: =UtenzeNonDomestiche!I100 -> 3.2646121 | H26: 1.55 | I26: 1.73 | J26: =H26+I26 -> 3.28
A27: ='DATI INPUT'!A56 -> 09 - Banche ed istituti di credito, studi professionali | B27: =UtenzeNonDomestiche!G101 -> 0.77932608 | C27: =UtenzeNonDomestiche!H101 -> 0.89754518 | D27: =UtenzeNonDomestiche!I101 -> 1.6768713 | H27: 0.8 | I27: 0.89 | J27: =H27+I27 -> 1.69
A28: ='DATI INPUT'!A57 -> 10 - Negozi abbigliamento, calzature, libreria, cartoleria, ferramenta e altri beni durevoli | B28: =UtenzeNonDomestiche!G102 -> 1.4914689 | C28: =UtenzeNonDomestiche!H102 -> 1.7124711 | D28: =UtenzeNonDomestiche!I102 -> 3.20394 | H28: 1.52 | I28: 1.69 | J28: =H28+I28 -> 3.21
A29: ='DATI INPUT'!A58 -> 11 - Edicola, farmacia, tabaccaio, plurilicenze | B29: =UtenzeNonDomestiche!G103 -> 2.0423718 | C29: =UtenzeNonDomestiche!H103 -> 2.3377484 | D29: =UtenzeNonDomestiche!I103 -> 4.3801202 | H29: 2.09 | I29: 2.31 | J29: =H29+I29 -> 4.4
A30: ='DATI INPUT'!A59 -> 12 - Attività artigianali tipo botteghe: falegname, idraulico, fabbro, elettricista | B30: =UtenzeNonDomestiche!G104 -> 1.3974123 | C30: =UtenzeNonDomestiche!H104 -> 1.5960531 | D30: =UtenzeNonDomestiche!I104 -> 2.9934654 | H30: 1.43 | I30: 1.58 | J30: =H30+I30 -> 3.01
A31: ='DATI INPUT'!A60 -> 13 - Carrozzeria, autofficina, elettrauto | B31: =UtenzeNonDomestiche!G105 -> 1.5586522 | C31: =UtenzeNonDomestiche!H105 -> 1.7800687 | D31: =UtenzeNonDomestiche!I105 -> 3.3387208 | H31: 1.59 | I31: 1.76 | J31: =H31+I31 -> 3.35 | O31: 48
A32: ='DATI INPUT'!A61 -> 14 - Attività industriali con capannoni di produzione | B32: =UtenzeNonDomestiche!G106 -> 1.2227358 | C32: =UtenzeNonDomestiche!H106 -> 1.4082822 | D32: =UtenzeNonDomestiche!I106 -> 2.6310179 | H32: 1.25 | I32: 1.39 | J32: =H32+I32 -> 2.64
A33: ='DATI INPUT'!A62 -> 15 - Attività artigianali di produzione beni specifici | B33: =UtenzeNonDomestiche!G107 -> 1.4645956 | C33: =UtenzeNonDomestiche!H107 -> 1.6749169 | D33: =UtenzeNonDomestiche!I107 -> 3.1395125 | H33: 1.5 | I33: 1.66 | J33: =H33+I33 -> 3.16
A34: ='DATI INPUT'!A63 -> 16 - Ristoranti, trattorie, osterie, pizzerie, pub | B34: =UtenzeNonDomestiche!G108 -> 6.5033418 | C34: =UtenzeNonDomestiche!H108 -> 7.4488739 | D34: =UtenzeNonDomestiche!I108 -> 13.952216 | H34: 6.65 | I34: 7.37 | J34: =H34+I34 -> 14.02
A35: ='DATI INPUT'!A64 -> 17 - Bar, caffè, pasticceria | B35: =UtenzeNonDomestiche!G109 -> 4.890943 | C35: =UtenzeNonDomestiche!H109 -> 5.59933 | D35: =UtenzeNonDomestiche!I109 -> 10.490273 | H35: 5 | I35: 5.54 | J35: =H35+I35 -> 10.54
A36: ='DATI INPUT'!A65 -> 18 - Supermercato, pane e pasta, macelleria, salumi e formaggi, generi alimentari | B36: =UtenzeNonDomestiche!G110 -> 2.8646952 | C36: =UtenzeNonDomestiche!H110 -> 3.2863673 | D36: =UtenzeNonDomestiche!I110 -> 6.1510625 | H36: 2.93 | I36: 3.25 | J36: =H36+I36 -> 6.18
A37: ='DATI INPUT'!A66 -> 19 - Plurilicenze alimentari e/o miste | B37: =UtenzeNonDomestiche!G111 -> 2.9318785 | C37: =UtenzeNonDomestiche!H111 -> 3.3577203 | D37: =UtenzeNonDomestiche!I111 -> 6.2895987 | H37: 2.99 | I37: 3.32 | J37: =H37+I37 -> 6.31
A38: ='DATI INPUT'!A67 -> 20 - Ortofrutta, pescherie, fiori e piante, pizza al taglio | B38: =UtenzeNonDomestiche!G112 -> 8.1426139 | C38: =UtenzeNonDomestiche!H112 -> 9.335972 | D38: =UtenzeNonDomestiche!I112 -> 17.478586 | H38: 8.32 | I38: 9.24 | J38: =H38+I38 -> 17.56
A39: ='DATI INPUT'!A68 -> 21 - Discoteche, night club | B39: =UtenzeNonDomestiche!G113 -> 2.2036117 | C39: =UtenzeNonDomestiche!H113 -> 2.5255194 | D39: =UtenzeNonDomestiche!I113 -> 4.7291311 | H39: 2.25 | I39: 2.5 | J39: =H39+I39 -> 4.75
A40: ='DATI INPUT'!A69 -> 0 | B40: =UtenzeNonDomestiche!G114 -> #DIV/0! | C40: =UtenzeNonDomestiche!H114 -> #DIV/0! | D40: =UtenzeNonDomestiche!I114 -> #DIV/0!
A41: ='DATI INPUT'!A70 -> 0 | B41: =UtenzeNonDomestiche!G115 -> #DIV/0! | C41: =UtenzeNonDomestiche!H115 -> #DIV/0! | D41: =UtenzeNonDomestiche!I115 -> #DIV/0!
A42: ='DATI INPUT'!A71 -> 0 | B42: =UtenzeNonDomestiche!G116 -> #DIV/0! | C42: =UtenzeNonDomestiche!H116 -> #DIV/0! | D42: =UtenzeNonDomestiche!I116 -> #DIV/0!
A43: ='DATI INPUT'!A72 -> 0 | B43: =UtenzeNonDomestiche!G117 -> #DIV/0! | C43: =UtenzeNonDomestiche!H117 -> #DIV/0! | D43: =UtenzeNonDomestiche!I117 -> #DIV/0!
A44: ='DATI INPUT'!A73 -> 0 | B44: =UtenzeNonDomestiche!G118 -> #DIV/0! | C44: =UtenzeNonDomestiche!H118 -> #DIV/0! | D44: =UtenzeNonDomestiche!I118 -> #DIV/0!
A45: ='DATI INPUT'!A74 -> 0 | B45: =UtenzeNonDomestiche!G119 -> #DIV/0! | C45: =UtenzeNonDomestiche!H119 -> #DIV/0! | D45: =UtenzeNonDomestiche!I119 -> #DIV/0!
A46: ='DATI INPUT'!A75 -> 0 | B46: =UtenzeNonDomestiche!G120 -> #DIV/0! | C46: =UtenzeNonDomestiche!H120 -> #DIV/0! | D46: =UtenzeNonDomestiche!I120 -> #DIV/0!
A47: ='DATI INPUT'!A76 -> 0 | B47: =UtenzeNonDomestiche!G121 -> #DIV/0! | C47: =UtenzeNonDomestiche!H121 -> #DIV/0! | D47: =UtenzeNonDomestiche!I121 -> #DIV/0!
A48: ='DATI INPUT'!A77 -> 0 | B48: =UtenzeNonDomestiche!G122 -> #DIV/0! | C48: =UtenzeNonDomestiche!H122 -> #DIV/0! | D48: =UtenzeNonDomestiche!I122 -> #DIV/0!
A49: ='DATI INPUT'!A78 -> 0 | B49: =UtenzeNonDomestiche!G123 -> #DIV/0! | C49: =UtenzeNonDomestiche!H123 -> #DIV/0! | D49: =UtenzeNonDomestiche!I123 -> #DIV/0!
A50: ='DATI INPUT'!A79 -> 0 | B50: =UtenzeNonDomestiche!G124 -> #DIV/0! | C50: =UtenzeNonDomestiche!H124 -> #DIV/0! | D50: =UtenzeNonDomestiche!I124 -> #DIV/0!
A51: * Tariffa giornaliera
A53: RIDUZIONI UTENZE DOMESTICHE
A55: Descrizione | C55: Codice | D55: % Riduzione
A56: Unico Occupante | C56: 1 | D56: 0
C57: 2 | D57: 0
A60: RIDUZIONI UTENZE NON DOMESTICHE
A62: Descrizione | C62: codice | D62: % Riduzione
A63: Attività artigianali di produzione beni specifici | C63: 1 | D63: 0
A64: Attività industriali con capannoni di produzione | C64: 2 | D64: 0
A65: Carrozzeria, autofficina, elettrauto | C65: 3 | D65: 0
A66: Musei, biblioteche, scuole, associazioni, luoghi di culto/Case di cura e riposo | C66: 4 | D66: 0

Sheet DATI INPUT
A1: PIANO FINANZIARIO - COMUNE DI CASALETTO LODIGIANO
A3: TARIFFA = | B3: PARTE FISSA | C3: + | E3: PARTE VARIABILE
A5: somma di: | E5: somma di:
A6: CSL | B6: costi spazzamento e lavaggio strade e piazze pubbliche | E6: CRT | F6: costi di raccolta e trasporto RSU
F7: costi personale da imputare a CGG
A8: CARC | B8: costi amministrativi accertamento, riscossione e contenzioso | E8: CTS | F8: costi di trattamento e smaltimento RSU
A9: CGG | B9: costi generali di gestione | E9: CRD | F9: costi di raccolta differenziata per materiale
B10: costi personale da CSL - CRT - CRD | F10: costi personale da imputare a CGG
A11: CCD | B11: costi comuni diversi | E11: CTR | F11: costi di trattamento e riciclo
A12: AC | B12: altri costi
A13: CK | B13: costi d'uso del capitale
B15: Totale parte fissa | C15: 99516 | F15: Totale parte variabile | G15: 114087
B16: Agevolazioni (fondi vincolati avanzo di bilancio | C16: =E16*C20 -> 0 | E16: 0 | G16: =E16*G20 -> 0
B18: Parte fissa | C18: =C15-C16 -> 99516 | F18: Parte variabile | G18: =G15-G16 -> 114087
B20: pari al | C20: =C15/C22 -> 0.46589233 | F20: pari al | G20: =G15/C22 -> 0.53410767
B22: totale costi PEF | C22: =SUM(C15:G15) -> 213603
C23: 100
E24: 0.8 | F24: articolazione su utenze domestiche
B25: totale costi considerati | C25: =C18+G18 -> 213603 | E25: =100%-E24 -> 0.2 | F25: articolazione su utenze non domestiche
A27: DATI PER UTENZE DOMESTICHE
C29: superficie tot. | E29: numero utenze* | F29: mq. medi per utenza
A30: Utenze domestiche con 1 componenti nucleo familiare | C30: 28362.76 | E30: 206 | F30: =C30/E30 -> 137.6833
A31: Utenze domestiche con 2 componenti nucleo familiare | C31: 35458.79 | E31: 214 | F31: =C31/E31 -> 165.69528
A32: Utenze domestiche con 3 componenti nucleo familiare | C32: 27776.93 | E32: 188 | F32: =C32/E32 -> 147.74963
A33: Utenze domestiche con 4 componenti nucleo familiare | C33: 11573.17 | E33: 69 | F33: =C33/E33 -> 167.7271
A34: Utenze domestiche con 5 componenti nucleo familiare | C34: 3324.435 | E34: 19 | F34: =C34/E34 -> 174.97026
A35: Utenze domestiche con 6 o più componenti nucleo familiare | C35: 1869.977 | E35: 10 | F35: =C35/E35 -> 186.9977
A37: Utenze domestiche tenute a disposizione | C37: 1e-05 | E37: 1e-05 | F37: =C37/E37 -> 1
B39: TOTALE | C39: =SUM(C30:C37) -> 108366.06 | E39: =SUM(E30:E37) -> 706.00001
C41: Anche a T. Fissa
B42: Applica Riduzioni: | C42: =RiepilogoTariffe!B14 -> 0 | D42: indicare con una "X", altrimenti le riduzioni andranno applicate solo alla parte variabile della tariffa
A44: * il numero delle utenze è ridotto in finzione delle riduzioni/pertinenze.
A45: DATI PER UTENZE NON DOMESTICHE
E47: superfici assoggettabili | G47: superfici RIDOTTE | I47: Applica riduzione anche a T. Fissa
A48: 01 - Musei, biblioteche, scuole, associazioni, luoghi di culto | E48: 74.45 | G48: 74.45 | I48: =RiepilogoTariffe!F19 -> x | J48: indicare con una "X", altrimenti le riduzioni andranno applicate solo alla parte variabile della tariffa
A49: 02 - Campeggi, distributori carburanti, impianti sportivi | E49: 0 | G49: 1e-11
A50: 03 - Stabilimenti balneari | E50: 0 | G50: 1e-11
A51: 04 - Esposizioni, autosaloni | E51: 91 | G51: 91
A52: 05 - Alberghi con ristorante | E52: 0 | G52: 0.001
A53: 06 - Alberghi senza ristorante | E53: 58.81 | G53: 58.81
A54: 07 - Case di cura e riposo | E54: 0 | G54: 1e-11
A55: 08 - Uffici, agenzie | E55: 1364.86 | G55: 1364.86
A56: 09 - Banche ed istituti di credito, studi professionali | E56: 232.74 | G56: 232.74
A57: 10 - Negozi abbigliamento, calzature, libreria, cartoleria, ferramenta e altri beni durevoli | E57: 0 | G57: 1e-11
A58: 11 - Edicola, farmacia, tabaccaio, plurilicenze | E58: 90 | G58: 90
A59: 12 - Attività artigianali tipo botteghe: falegname, idraulico, fabbro, elettricista | E59: 54.6 | G59: 54.6
A60: 13 - Carrozzeria, autofficina, elettrauto | E60: 0 | G60: 1e-11
... A68: 21 - Discoteche, night club | E68: 0 | G68: 1e-11
E80: =SUM(E48:E79) -> 12184.22 | G80: =SUM(G48:G79) -> 12184.221
A82: SCELTE PER UTENZE DOMESTICHE
A84: Coefficiente per parte fissa (nord, pop. < 5.000 abitanti)
E85: fisso da tabella
A86: Utenze domestiche con 1 componenti nucleo familiare | E86: 0.84
A87: Utenze domestiche con 2 componenti nucleo familiare | E87: 0.98
A88: Utenze domestiche con 3 componenti nucleo familiare | E88: 1.08
A89: Utenze domestiche con 4 componenti nucleo familiare | E89: 1.16
A90: Utenze domestiche con 5 componenti nucleo familiare | E90: 1.24
A91: Utenze domestiche con 6 o più componenti nucleo familiare | E91: 1.3
A92: Utenze domestiche tenute a disposizione
A94: Coefficiente scelto per parte variabile (nord, pop. < 5.000 abitanti) | E94: scelta operata | F94: % intervallo | I94: E' possibile inserire nella colonna evidenziata in azzurro
A95: Utenze domestiche con 1 componenti nucleo familiare | C95: da 0,60 a 1,00 | E95: =G95 -> 0.94 | F95: 85 | G95: =0.6+(1-0.6)*F95/100 -> 0.94 | I95: la % dell'intervallo da aggiungere al parametro minimo
A96: Utenze domestiche con 2 componenti nucleo familiare | C96: da 1,40 a 1,80 | E96: =G96 -> 1.672 | F96: 68 | G96: =1.4+(1.8-1.4)*F96/100 -> 1.672 | I96: (parametro minimo + 100% dell'intervallo = parametro massimo)
A97: Utenze domestiche con 3 componenti nucleo familiare | C97: da 1,80 a 2,30 | E97: =G97 -> 2.06 | F97: 52 | G97: =1.8+(2.3-1.8)*F97/100 -> 2.06 | I97: Gli altri dati verranno aggiornati automaticamente
A98: Utenze domestiche con 4 componenti nucleo familiare | C98: da 2,20 a 3,00 | E98: =G98 -> 2.472 | F98: 34 | G98: =2.2+(3-2.2)*F98/100 -> 2.472
A99: Utenze domestiche con 5 componenti nucleo familiare | C99: da 2,90 a 3,60 | E99: =G99 -> 3.019 | F99: 17 | G99: =2.9+(3.6-2.9)*F99/100 -> 3.019
A100: Utenze domestiche con 6 o più componenti nucleo familiare | C100: da 3,40 a 4,10 | E100: =G100 -> 3.4 | F100: 0 | G100: =3.4+(4.1-3.4)*F100/100 -> 3.4
A101: Utenze domestiche tenute a disposizione | F101: 0 | G101: 0
A102: SCELTE PER UTENZE NON DOMESTICHE | I102: E' possibile inserire la % nella colonna evidenziata in azzurro
D104: Coefficiente per parte fissa (nord, pop. < 5.000 abitanti) | F104: coefficiente scelto DPR 158 (nord) | G104: % intervallo | I104: Coefficiente per parte variabile (nord, pop. < 5.000 abitanti) | J104: kg/mq. anno scelto DPR158 (nord) | K104: % intervallo | M104: Kc/Kd +50%-
A105: 01 - Musei, biblioteche, scuole, associazioni, luoghi di culto | D105: =IF(M105>0,CONCATENATE("da ",KcKd!G3," a ",KcKd!H3),CONCATENATE("da ",KcKd!B3," a ",KcKd!C3)) -> da 0,32 a 0,51 | F105: =IF(M105>0,KcKd!G3+(KcKd!H3-KcKd!G3)*'DATI INPUT'!G105,KcKd!B3+(KcKd!C3-KcKd!B3)*G105) -> 0.51 | G105: 1 | I105: =IF(M105>0,CONCATENATE("da ",KcKd!I3," a ",KcKd!J3),CONCATENATE("da ",KcKd!D3," a ",KcKd!E3)) -> da 2,6 a 4,2 | J105: =IF(M105>0,KcKd!I3+(KcKd!J3-KcKd!I3)*'DATI INPUT'!K105,KcKd!D3+(KcKd!E3-KcKd!D3)*K105) -> 4.2 | K105: 1
A106: 02 - Campeggi, distributori carburanti, impianti sportivi | D106: =IF(M106>0,CONCATENATE("da ",KcKd!G4," a ",KcKd!H4),CONCATENATE("da ",KcKd!B4," a ",KcKd!C4)) -> da 0,67 a 0,8 | F106: =IF(M106>0,KcKd!G4+(KcKd!H4-KcKd!G4)*'DATI INPUT'!G106,KcKd!B4+(KcKd!C4-KcKd!B4)*G106) -> 0.8 | G106: 1 | I106: =IF(M106>0,CONCATENATE("da ",KcKd!I4," a ",KcKd!J4),CONCATENATE("da ",KcKd!D4," a ",KcKd!E4)) -> da 5,51 a 6,55 | J106: =IF(M106>0,KcKd!I4+(KcKd!J4-KcKd!I4)*'DATI INPUT'!K106,KcKd!D4+(KcKd!E4-KcKd!D4)*K106) -> 6.55 | K106: 1
A107: 03 - Stabilimenti balneari | D107: =IF(M107>0,CONCATENATE("da ",KcKd!G5," a ",KcKd!H5),CONCATENATE("da ",KcKd!B5," a ",KcKd!C5)) -> da 0,38 a 0,63 | F107: =IF(M107>0,KcKd!G5+(KcKd!H5-KcKd!G5)*'DATI INPUT'!G107,KcKd!B5+(KcKd!C5-KcKd!B5)*G107) -> 0.63 | G107: 1 | I107: =IF(M107>0,CONCATENATE("da ",KcKd!I5," a ",KcKd!J5),CONCATENATE("da ",KcKd!D5," a ",KcKd!E5)) -> da 3,11 a 5,2 | J107: =IF(M107>0,KcKd!I5+(KcKd!J5-KcKd!I5)*'DATI INPUT'!K107,KcKd!D5+(KcKd!E5-KcKd!D5)*K107) -> 5.2 | K107: 1
A108: 04 - Esposizioni, autosaloni | D108: =IF(M108>0,CONCATENATE("da ",KcKd!G6," a ",KcKd!H6),CONCATENATE("da ",KcKd!B6," a ",KcKd!C6)) -> da 0,3 a 0,43 | F108: =IF(M108>0,KcKd!G6+(KcKd!H6-KcKd!G6)*'DATI INPUT'!G108,KcKd!B6+(KcKd!C6-KcKd!B6)*G108) -> 0.43 | G108: 1 | I108: =IF(M108>0,CONCATENATE("da ",KcKd!I6," a ",KcKd!J6),CONCATENATE("da ",KcKd!D6," a ",KcKd!E6)) -> da 2,5 a 3,55 | J108: =IF(M108>0,KcKd!I6+(KcKd!J6-KcKd!I6)*'DATI INPUT'!K108,KcKd!D6+(KcKd!E6-KcKd!D6)*K108) -> 3.55 | K108: 1
A109: 05 - Alberghi con ristorante | D109: =IF(M109>0,CONCATENATE("da ",KcKd!G7," a ",KcKd!H7),CONCATENATE("da ",KcKd!B7," a ",KcKd!C7)) -> da 1,07 a 1,33 | F109: =IF(M109>0,KcKd!G7+(KcKd!H7-KcKd!G7)*'DATI INPUT'!G109,KcKd!B7+(KcKd!C7-KcKd!B7)*G109) -> 1.33 | G109: 1 | I109: =IF(M109>0,CONCATENATE("da ",KcKd!I7," a ",KcKd!J7),CONCATENATE("da ",KcKd!D7," a ",KcKd!E7)) -> da 8,79 a 10,93 | J109: =IF(M109>0,KcKd!I7+(KcKd!J7-KcKd!I7)*'DATI INPUT'!K109,KcKd!D7+(KcKd!E7-KcKd!D7)*K109) -> 10.93 | K109: 1
A110: 06 - Alberghi senza ristorante | D110: =IF(M110>0,CONCATENATE("da ",KcKd!G8," a ",KcKd!H8),CONCATENATE("da ",KcKd!B8," a ",KcKd!C8)) -> da 0,8 a 0,91 | F110: =IF(M110>0,KcKd!G8+(KcKd!H8-KcKd!G8)*'DATI INPUT'!G110,KcKd!B8+(KcKd!C8-KcKd!B8)*G110) -> 0.91 | G110: 1 | I110: =IF(M110>0,CONCATENATE("da ",KcKd!I8," a ",KcKd!J8),CONCATENATE("da ",KcKd!D8," a ",KcKd!E8)) -> da 6,55 a 7,49 | J110: =IF(M110>0,KcKd!I8+(KcKd!J8-KcKd!I8)*'DATI INPUT'!K110,KcKd!D8+(KcKd!E8-KcKd!D8)*K110) -> 7.49 | K110: 1
A111: 07 - Case di cura e riposo | D111: =IF(M111>0,CONCATENATE("da ",KcKd!G9," a ",KcKd!H9),CONCATENATE("da ",KcKd!B9," a ",KcKd!C9)) -> da 0,95 a 1 | F111: =IF(M111>0,KcKd!G9+(KcKd!H9-KcKd!G9)*'DATI INPUT'!G111,KcKd!B9+(KcKd!C9-KcKd!B9)*G111) -> 1 | G111: 1 | I111: =IF(M111>0,CONCATENATE("da ",KcKd!I9," a ",KcKd!J9),CONCATENATE("da ",KcKd!D9," a ",KcKd!E9)) -> da 7,82 a 8,19 | J111: =IF(M111>0,KcKd!I9+(KcKd!J9-KcKd!I9)*'DATI INPUT'!K111,KcKd!D9+(KcKd!E9-KcKd!D9)*K111) -> 8.19 | K111: 1
A112: 08 - Uffici, agenzie | D112: =IF(M112>0,CONCATENATE("da ",KcKd!G10," a ",KcKd!H10),CONCATENATE("da ",KcKd!B10," a ",KcKd!C10)) -> da 1 a 1,13 | F112: =IF(M112>0,KcKd!G10+(KcKd!H10-KcKd!G10)*'DATI INPUT'!G112,KcKd!B10+(KcKd!C10-KcKd!B10)*G112) -> 1.13 | G112: 1 | I112: =IF(M112>0,CONCATENATE("da ",KcKd!I10," a ",KcKd!J10),CONCATENATE("da ",KcKd!D10," a ",KcKd!E10)) -> da 8,21 a 9,3 | J112: =IF(M112>0,KcKd!I10+(KcKd!J10-KcKd!I10)*'DATI INPUT'!K112,KcKd!D10+(KcKd!E10-KcKd!D10)*K112) -> 9.3 | K112: 1
A113: 09 - Banche ed istituti di credito, studi professionali | D113: =IF(M113>0,CONCATENATE("da ",KcKd!G11," a ",KcKd!H11),CONCATENATE("da ",KcKd!B11," a ",KcKd!C11)) -> da 0,55 a 0,58 | F113: =IF(M113>0,KcKd!G11+(KcKd!H11-KcKd!G11)*'DATI INPUT'!G113,KcKd!B11+(KcKd!C11-KcKd!B11)*G113) -> 0.58 | G113: 1 | I113: =IF(M113>0,CONCATENATE("da ",KcKd!I11," a ",KcKd!J11),CONCATENATE("da ",KcKd!D11," a ",KcKd!E11)) -> da 4,5 a 4,78 | J113: =IF(M113>0,KcKd!I11+(KcKd!J11-KcKd!I11)*'DATI INPUT'!K113,KcKd!D11+(KcKd!E11-KcKd!D11)*K113) -> 4.78 | K113: 1
A114: 10 - Negozi abbigliamento, calzature, libreria, cartoleria, ferramenta e altri beni durevoli | D114: =IF(M114>0,CONCATENATE("da ",KcKd!G12," a ",KcKd!H12),CONCATENATE("da ",KcKd!B12," a ",KcKd!C12)) -> da 0,87 a 1,11 | F114: =IF(M114>0,KcKd!G12+(KcKd!H12-KcKd!G12)*'DATI INPUT'!G114,KcKd!B12+(KcKd!C12-KcKd!B12)*G114) -> 1.11 | G114: 1 | I114: =IF(M114>0,CONCATENATE("da ",KcKd!I12," a ",KcKd!J12),CONCATENATE("da ",KcKd!D12," a ",KcKd!E12)) -> da 7,11 a 9,12 | J114: =IF(M114>0,KcKd!I12+(KcKd!J12-KcKd!I12)*'DATI INPUT'!K114,KcKd!D12+(KcKd!E12-KcKd!D12)*K114) -> 9.12 | K114: 1
A115: 11 - Edicola, farmacia, tabaccaio, plurilicenze | D115: =IF(M115>0,CONCATENATE("da ",KcKd!G13," a ",KcKd!H13),CONCATENATE("da ",KcKd!B13," a ",KcKd!C13)) -> da 1,07 a 1,52 | F115: =IF(M115>0,KcKd!G13+(KcKd!H13-KcKd!G13)*'DATI INPUT'!G115,KcKd!B13+(KcKd!C13-KcKd!B13)*G115) -> 1.52 | G115: 1 | I115: =IF(M115>0,CONCATENATE("da ",KcKd!I13," a ",KcKd!J13),CONCATENATE("da ",KcKd!D13," a ",KcKd!E13)) -> da 8,8 a 12,45 | J115: =IF(M115>0,KcKd!I13+(KcKd!J13-KcKd!I13)*'DATI INPUT'!K115,KcKd!D13+(KcKd!E13-KcKd!D13)*K115) -> 12.45 | K115: 1
A116: 12 - Attività artigianali tipo botteghe: falegname, idraulico, fabbro, elettricista | D116: =IF(M116>0,CONCATENATE("da ",KcKd!G14," a ",KcKd!H14),CONCATENATE("da ",KcKd!B14," a ",KcKd!C14)) -> da 0,72 a 1,04 | F116: =IF(M116>0,KcKd!G14+(KcKd!H14-KcKd!G14)*'DATI INPUT'!G116,KcKd!B14+(KcKd!C14-KcKd!B14)*G116) -> 1.04 | G116: 1 | I116: =IF(M116>0,CONCATENATE("da ",KcKd!I14," a ",KcKd!J14),CONCATENATE("da ",KcKd!D14," a ",KcKd!E14)) -> da 5,9 a 8,5 | J116: =IF(M116>0,KcKd!I14+(KcKd!J14-KcKd!I14)*'DATI INPUT'!K116,KcKd!D14+(KcKd!E14-KcKd!D14)*K116) -> 8.5 | K116: 1
... A125: 21 - Discoteche, night club | D125: =IF(M125>0,CONCATENATE("da ",KcKd!G23," a ",KcKd!H23),CONCATENATE("da ",KcKd!B23," a ",KcKd!C23)) -> da 1,04 a 1,64 | F125: =IF(M125>0,KcKd!G23+(KcKd!H23-KcKd!G23)*'DATI INPUT'!G125,KcKd!B23+(KcKd!C23-KcKd!B23)*G125) -> 1.64 | G125: 1 | I125: =IF(M125>0,CONCATENATE("da ",KcKd!I23," a ",KcKd!J23),CONCATENATE("da ",KcKd!D23," a ",KcKd!E23)) -> da 8,56 a 13,45 | J125: =IF(M125>0,KcKd!I23+(KcKd!J23-KcKd!I23)*'DATI INPUT'!K125,KcKd!D23+(KcKd!E23-KcKd!D23)*K125) -> 13.45 | K125: 1
D126: =IF(M126>0,CONCATENATE("da ",KcKd!G24," a ",KcKd!H24),CONCATENATE("da ",KcKd!B24," a ",KcKd!C24)) -> da a | F126: =IF(M126>0,KcKd!G24+(KcKd!H24-KcKd!G24)*'DATI INPUT'!G126,KcKd!B24+(KcKd!C24-KcKd!B24)*G126) -> 0 | G126: 0 | I126: =IF(M126>0,CONCATENATE("da ",KcKd!I24," a ",KcKd!J24),CONCATENATE("da ",KcKd!D24," a ",KcKd!E24)) -> da a | J126: =IF(M126>0,KcKd!I24+(KcKd!J24-KcKd!I24)*'DATI INPUT'!K126,KcKd!D24+(KcKd!E24-KcKd!D24)*K126) -> 0 | K126: =G126 -> 0
D127: =IF(M127>0,CONCATENATE("da ",KcKd!G25," a ",KcKd!H25),CONCATENATE("da ",KcKd!B25," a ",KcKd!C25)) -> da a | F127: =IF(M127>0,KcKd!G25+(KcKd!H25-KcKd!G25)*'DATI INPUT'!G127,KcKd!B25+(KcKd!C25-KcKd!B25)*G127) -> 0 | G127: 0.15 | I127: =IF(M127>0,CONCATENATE("da ",KcKd!I25," a ",KcKd!J25),CONCATENATE("da ",KcKd!D25," a ",KcKd!E25)) -> da a | J127: =IF(M127>0,KcKd!I25+(KcKd!J25-KcKd!I25)*'DATI INPUT'!K127,KcKd!D25+(KcKd!E25-KcKd!D25)*K127) -> 0 | K127: =G127 -> 0.15
D128: =IF(M128>0,CONCATENATE("da ",KcKd!G26," a ",KcKd!H26),CONCATENATE("da ",KcKd!B26," a ",KcKd!C26)) -> da a | F128: =IF(M128>0,KcKd!G26+(KcKd!H26-KcKd!G26)*'DATI INPUT'!G128,KcKd!B26+(KcKd!C26-KcKd!B26)*G128) -> 0 | G128: 0.85 | I128: =IF(M128>0,CONCATENATE("da ",KcKd!I26," a ",KcKd!J26),CONCATENATE("da ",KcKd!D26," a ",KcKd!E26)) -> da a | J128: =IF(M128>0,KcKd!I26+(KcKd!J26-KcKd!I26)*'DATI INPUT'!K128,KcKd!D26+(KcKd!E26-KcKd!D26)*K128) -> 0 | K128: =G128 -> 0.85
D129: =IF(M129>0,CONCATENATE("da ",KcKd!G27," a ",KcKd!H27),CONCATENATE("da ",KcKd!B27," a ",KcKd!C27)) -> da a | F129: =IF(M129>0,KcKd!G27+(KcKd!H27-KcKd!G27)*'DATI INPUT'!G129,KcKd!B27+(KcKd!C27-KcKd!B27)*G129) -> 0 | G129: 0 | I129: =IF(M129>0,CONCATENATE("da ",KcKd!I27," a ",KcKd!J27),CONCATENATE("da ",KcKd!D27," a ",KcKd!E27)) -> da a | J129: =IF(M129>0,KcKd!I27+(KcKd!J27-KcKd!I27)*'DATI INPUT'!K129,KcKd!D27+(KcKd!E27-KcKd!D27)*K129) -> 0 | K129: =G129 -> 0
D130: =IF(M130>0,CONCATENATE("da ",KcKd!G28," a ",KcKd!H28),CONCATENATE("da ",KcKd!B28," a ",KcKd!C28)) -> da a | F130: =IF(M130>0,KcKd!G28+(KcKd!H28-KcKd!G28)*'DATI INPUT'!G130,KcKd!B28+(KcKd!C28-KcKd!B28)*G130) -> 0 | G130: 0.85 | I130: =IF(M130>0,CONCATENATE("da ",KcKd!I28," a ",KcKd!J28),CONCATENATE("da ",KcKd!D28," a ",KcKd!E28)) -> da a | J130: =IF(M130>0,KcKd!I28+(KcKd!J28-KcKd!I28)*'DATI INPUT'!K130,KcKd!D28+(KcKd!E28-KcKd!D28)*K130) -> 0 | K130: =G130 -> 0.85
D131: =IF(M131>0,CONCATENATE("da ",KcKd!G29," a ",KcKd!H29),CONCATENATE("da ",KcKd!B29," a ",KcKd!C29)) -> da a | F131: =IF(M131>0,KcKd!G29+(KcKd!H29-KcKd!G29)*'DATI INPUT'!G131,KcKd!B29+(KcKd!C29-KcKd!B29)*G131) -> 0 | G131: 0.55 | I131: =IF(M131>0,CONCATENATE("da ",KcKd!I29," a ",KcKd!J29),CONCATENATE("da ",KcKd!D29," a ",KcKd!E29)) -> da a | J131: =IF(M131>0,KcKd!I29+(KcKd!J29-KcKd!I29)*'DATI INPUT'!K131,KcKd!D29+(KcKd!E29-KcKd!D29)*K131) -> 0 | K131: =G131 -> 0.55
D132: =IF(M132>0,CONCATENATE("da ",KcKd!G30," a ",KcKd!H30),CONCATENATE("da ",KcKd!B30," a ",KcKd!C30)) -> da a | F132: =IF(M132>0,KcKd!G30+(KcKd!H30-KcKd!G30)*'DATI INPUT'!G132,KcKd!B30+(KcKd!C30-KcKd!B30)*G132) -> 0 | G132: 0 | I132: =IF(M132>0,CONCATENATE("da ",KcKd!I30," a ",KcKd!J30),CONCATENATE("da ",KcKd!D30," a ",KcKd!E30)) -> da a | J132: =IF(M132>0,KcKd!I30+(KcKd!J30-KcKd!I30)*'DATI INPUT'!K132,KcKd!D30+(KcKd!E30-KcKd!D30)*K132) -> 0 | K132: =G132 -> 0
D133: =IF(M133>0,CONCATENATE("da ",KcKd!G31," a ",KcKd!H31),CONCATENATE("da ",KcKd!B31," a ",KcKd!C31)) -> da a | F133: =IF(M133>0,KcKd!G31+(KcKd!H31-KcKd!G31)*'DATI INPUT'!G133,KcKd!B31+(KcKd!C31-KcKd!B31)*G133) -> 0 | G133: 0 | I133: =IF(M133>0,CONCATENATE("da ",KcKd!I31," a ",KcKd!J31),CONCATENATE("da ",KcKd!D31," a ",KcKd!E31)) -> da a | J133: =IF(M133>0,KcKd!I31+(KcKd!J31-KcKd!I31)*'DATI INPUT'!K133,KcKd!D31+(KcKd!E31-KcKd!D31)*K133) -> 0 | K133: =G133 -> 0 | M133: x
D134: =IF(M134>0,CONCATENATE("da ",KcKd!G32," a ",KcKd!H32),CONCATENATE("da ",KcKd!B32," a ",KcKd!C32)) -> da a | F134: =IF(M134>0,KcKd!G32+(KcKd!H32-KcKd!G32)*'DATI INPUT'!G134,KcKd!B32+(KcKd!C32-KcKd!B32)*G134) -> 0 | G134: 1 | I134: =IF(M134>0,CONCATENATE("da ",KcKd!I32," a ",KcKd!J32),CONCATENATE("da ",KcKd!D32," a ",KcKd!E32)) -> da a | J134: =IF(M134>0,KcKd!I32+(KcKd!J32-KcKd!I32)*'DATI INPUT'!K134,KcKd!D32+(KcKd!E32-KcKd!D32)*K134) -> 0 | K134: =G134 -> 1 | M134: x
D135: =IF(M135>0,CONCATENATE("da ",KcKd!G33," a ",KcKd!H33),CONCATENATE("da ",KcKd!B33," a ",KcKd!C33)) -> da a | F135: =IF(M135>0,KcKd!G33+(KcKd!H33-KcKd!G33)*'DATI INPUT'!G135,KcKd!B33+(KcKd!C33-KcKd!B33)*G135) -> 0 | G135: 0 | I135: =IF(M135>0,CONCATENATE("da ",KcKd!I33," a ",KcKd!J33),CONCATENATE("da ",KcKd!D33," a ",KcKd!E33)) -> da a | J135: =IF(M135>0,KcKd!I33+(KcKd!J33-KcKd!I33)*'DATI INPUT'!K135,KcKd!D33+(KcKd!E33-KcKd!D33)*K135) -> 0 | K135: =G135 -> 0
D136: =IF(M136>0,CONCATENATE("da ",KcKd!G34," a ",KcKd!H34),CONCATENATE("da ",KcKd!B34," a ",KcKd!C34)) -> da a | F136: =IF(M136>0,KcKd!G34+(KcKd!H34-KcKd!G34)*'DATI INPUT'!G136,KcKd!B34+(KcKd!C34-KcKd!B34)*G136) -> 0 | G136: 0.85 | I136: =IF(M136>0,CONCATENATE("da ",KcKd!I34," a ",KcKd!J34),CONCATENATE("da ",KcKd!D34," a ",KcKd!E34)) -> da a | J136: =IF(M136>0,KcKd!I34+(KcKd!J34-KcKd!I34)*'DATI INPUT'!K136,KcKd!D34+(KcKd!E34-KcKd!D34)*K136) -> 0 | K136: =G136 -> 0.85
A139: RIDUZIONI UTENZE DOMESTICHE
A141: Descrizione | C141: Codice | D141: % Riduzione | F141: (ex regolamento Tares)
A142: =RiepilogoTariffe!A56 -> Unico Occupante | C142: 1 | D142: =RiepilogoTariffe!D56 -> 0
A143: =RiepilogoTariffe!A57 -> 0 | C143: 2 | D143: =RiepilogoTariffe!D57 -> 0
A146: RIDUZIONI UTENZE NON DOMESTICHE
A148: Descrizione | C148: codice | D148: % Riduzione
A149: =RiepilogoTariffe!A63 -> Attività artigianali di produzione beni specifici | C149: 1 | D149: =RiepilogoTariffe!D63 -> 0
...

Sheet rip.UD-UND
A2: IPOTESI ARTICOLAZIONE UD/UND SU SUPERFICI | D2: alimentazione automatica da dati input
A4: superfici totali utenze domestiche | B4: ='DATI INPUT'!C39 -> 108366.06 | C4: =B4/B6 -> 0.89892832
A5: superfici totali utenze non domestiche | B5: ='DATI INPUT'!E80 -> 12184.22 | C5: =B5/B6 -> 0.10107168
B6: =SUM(B4:B5) -> 120550.28 | C6: =SUM(C4:C5) -> 1
A9: IPOTESI ARTICOLAZIONE UD/UND SU PRODUZIONE TEORICA | D9: alimentazione automatica da dati input
A11: produzione teorica totale UD (1 kg./giorno/ab equivalente DPR 158 x 365)
A13: ='DATI INPUT'!A86 -> Utenze domestiche con 1 componenti nucleo familiare | B13: ='DATI INPUT'!E30*'DATI INPUT'!E95*365 -> 70678.6
A14: ='DATI INPUT'!A87 -> Utenze domestiche con 2 componenti nucleo familiare | B14: ='DATI INPUT'!E31*'DATI INPUT'!E96*365 -> 130599.92
A15: ='DATI INPUT'!A88 -> Utenze domestiche con 3 componenti nucleo familiare | B15: ='DATI INPUT'!E32*'DATI INPUT'!E97*365 -> 141357.2
A16: ='DATI INPUT'!A89 -> Utenze domestiche con 4 componenti nucleo familiare | B16: ='DATI INPUT'!E33*'DATI INPUT'!E98*365 -> 62257.32
A17: ='DATI INPUT'!A90 -> Utenze domestiche con 5 componenti nucleo familiare | B17: ='DATI INPUT'!E34*'DATI INPUT'!E99*365 -> 20936.765
A18: ='DATI INPUT'!A91 -> Utenze domestiche con 6 o più componenti nucleo familiare | B18: ='DATI INPUT'!E35*'DATI INPUT'!E100*365 -> 12410
B19: =SUM(B13:B18) -> 438239.8 | C19: =B19/B55 -> 0.78291084
A21: produzione teorica totale UND (kg./mq/anno)
A23: ='DATI INPUT'!A105 -> 01 - Musei, biblioteche, scuole, associazioni, luoghi di culto | B23: ='DATI INPUT'!E48*'DATI INPUT'!J105 -> 312.69
A24: ='DATI INPUT'!A106 -> 02 - Campeggi, distributori carburanti, impianti sportivi | B24: ='DATI INPUT'!E49*'DATI INPUT'!J106 -> 0
A25: ='DATI INPUT'!A107 -> 03 - Stabilimenti balneari | B25: ='DATI INPUT'!E50*'DATI INPUT'!J107 -> 0
A26: ='DATI INPUT'!A108 -> 04 - Esposizioni, autosaloni | B26: ='DATI INPUT'!E51*'DATI INPUT'!J108 -> 323.05
A27: ='DATI INPUT'!A109 -> 05 - Alberghi con ristorante | B27: ='DATI INPUT'!E52*'DATI INPUT'!J109 -> 0
A28: ='DATI INPUT'!A110 -> 06 - Alberghi senza ristorante | B28: ='DATI INPUT'!E53*'DATI INPUT'!J110 -> 440.4869
A29: ='DATI INPUT'!A111 -> 07 - Case di cura e riposo | B29: ='DATI INPUT'!E54*'DATI INPUT'!J111 -> 0
A30: ='DATI INPUT'!A112 -> 08 - Uffici, agenzie | B30: ='DATI INPUT'!E55*'DATI INPUT'!J112 -> 12693.198
A31: ='DATI INPUT'!A113 -> 09 - Banche ed istituti di credito, studi professionali | B31: ='DATI INPUT'!E56*'DATI INPUT'!J113 -> 1112.4972
A32: ='DATI INPUT'!A114 -> 10 - Negozi abbigliamento, calzature, libreria, cartoleria, ferramenta e altri beni durevoli | B32: ='DATI INPUT'!E57*'DATI INPUT'!J114 -> 0
A33: ='DATI INPUT'!A115 -> 11 - Edicola, farmacia, tabaccaio, plurilicenze | B33: ='DATI INPUT'!E58*'DATI INPUT'!J115 -> 1120.5
A34: ='DATI INPUT'!A116 -> 12 - Attività artigianali tipo botteghe: falegname, idraulico, fabbro, elettricista | B34: ='DATI INPUT'!E59*'DATI INPUT'!J116 -> 464.1
... A44: ='DATI INPUT'!A126 -> 0 | B44: ='DATI INPUT'!E69*'DATI INPUT'!J126 -> 0
A45: ='DATI INPUT'!A128 -> 0 | B45: ='DATI INPUT'!E71*'DATI INPUT'!J128 -> 0
A46: ='DATI INPUT'!A129 -> 0 | B46: ='DATI INPUT'!E72*'DATI INPUT'!J129 -> 0
A47: ='DATI INPUT'!A130 -> 0 | B47: ='DATI INPUT'!E73*'DATI INPUT'!J130 -> 0
A48: ='DATI INPUT'!A131 -> 0 | B48: ='DATI INPUT'!E74*'DATI INPUT'!J131 -> 0
A49: ='DATI INPUT'!A132 -> 0 | B49: ='DATI INPUT'!E75*'DATI INPUT'!J132 -> 0
A50: ='DATI INPUT'!A134 -> 0 | B50: ='DATI INPUT'!E77*'DATI INPUT'!J134 -> 0
A51: ='DATI INPUT'!A135 -> 0 | B51: ='DATI INPUT'!E78*'DATI INPUT'!J135 -> 0
A52: ='DATI INPUT'!A136 -> 0 | B52: ='DATI INPUT'!E79*'DATI INPUT'!J136 -> 0
B53: =SUM(B23:B52) -> 121517.17 | C53: =B53/B55 -> 0.21708916
B55: =B19+B53 -> 559756.98 | C55: =SUM(C19:C53) -> 1

Sheet sintesi
A1: Costi da ripartire: | B1: ='DATI INPUT'!C25 -> 213603 | C1: 1
A3: Quota utenze domestiche | B3: =UtenzeDomestiche!K5 -> 170882.4 | C3: ='DATI INPUT'!E24 -> 0.8
A4: Quota utenze non domestiche | B4: =UtenzeNonDomestiche!K5 -> 42720.6 | C4: ='DATI INPUT'!E25 -> 0.2
B5: =SUM(B3:B4) -> 213603
A7: UD copertura costi fissi | B7: =UtenzeDomestiche!K11 -> 79612.8 | C7: ='DATI INPUT'!C20 -> 0.46589233
A8: UD copertura costi variabili | B8: =UtenzeDomestiche!K27 -> 91269.6 | C8: ='DATI INPUT'!G20 -> 0.53410767
A9: UND copertura costi fissi | B9: =UtenzeNonDomestiche!K11 -> 19903.2 | C9: =C7 -> 0.46589233
A10: UND copertura costi variabili | B10: =UtenzeNonDomestiche!K52 -> 22817.4 | C10: =C8 -> 0.53410767
B11: =SUM(B7:B10) -> 213603
B14: =B1-B11 -> 0

Sheet UtenzeDomestiche
A1: UTENZE DOMESTICHE
A3: Totale costi | I3: ='DATI INPUT'!C25 -> 213603
A5: QUOTA UTENZE DOMESTICHE | I5: ='DATI INPUT'!E24 -> 0.8 | J5: pari a: | K5: =I3*I5 -> 170882.4
A7: PARTE FISSA
A9: Ripartizione costi fissi (dato reale) | I9: ='DATI INPUT'!C20 -> 0.46589233
A11: Totale costi fissi attribuibili alle utenze domestiche | K11: =K5*I9 -> 79612.8
I13: superfici | J13: coefficiente fisso DPR 158 | K13: superfici riparametrate | L13: ripartizione costi fissi per classe di abitanti | M13: Tariffa fissa (€/mq)
A14: Superficie totale utenze domestiche con 1 componenti nucleo familiare | I14: ='DATI INPUT'!C30 -> 28362.76 | J14: ='DATI INPUT'!E86 -> 0.84 | K14: =I14*J14 -> 23824.718 | L14: =K11/K21*K14 -> 17473.286 | M14: =L14/I14 -> 0.61606438
A15: Superficie totale utenze domestiche con 2 componenti nucleo familiare | I15: ='DATI INPUT'!C31 -> 35458.79 | J15: ='DATI INPUT'!E87 -> 0.98 | K15: =I15*J15 -> 34749.614 | L15: =K11/K21*K15 -> 25485.714 | M15: =L15/I15 -> 0.71874178
A16: Superficie totale utenze domestiche con 3 componenti nucleo familiare | I16: ='DATI INPUT'!C32 -> 27776.93 | J16: ='DATI INPUT'!E88 -> 1.08 | K16: =I16*J16 -> 29999.084 | L16: =K11/K21*K16 -> 22001.628 | M16: =L16/I16 -> 0.79208278
A17: Superficie totale utenze domestiche con 4 componenti nucleo familiare | I17: ='DATI INPUT'!C33 -> 11573.17 | J17: ='DATI INPUT'!E89 -> 1.16 | K17: =I17*J17 -> 13424.877 | L17: =K11/K21*K17 -> 9845.9389 | M17: =L17/I17 -> 0.85075558
A18: Superficie totale utenze domestiche con 5 componenti nucleo familiare | I18: ='DATI INPUT'!C34 -> 3324.435 | J18: ='DATI INPUT'!E90 -> 1.24 | K18: =I18*J18 -> 4122.2994 | L18: =K11/K21*K18 -> 3023.3355 | M18: =L18/I18 -> 0.90942837
A19: Superficie totale utenze domestiche con 6 o più comp. nucleo familiare | I19: ='DATI INPUT'!C35 -> 1869.977 | J19: ='DATI INPUT'!E91 -> 1.3 | K19: =I19*J19 -> 2430.9701 | L19: =K11/K21*K19 -> 1782.8977 | M19: =L19/I19 -> 0.95343297
A20: Numero totale utenze domestiche tenute a disposizione | I20: ='DATI INPUT'!C37 -> 1e-05 | J20: ='DATI INPUT'!E92 -> 0 | K20: =I20*J20 -> 0 | L20: =K11/K21*K20 -> 0 | M20: =L20/I20 -> 0
I21: =SUM(I14:I19) -> 108366.06 | K21: =SUM(K14:K19) -> 108551.56 | L21: =SUM(L14:L19) -> 79612.8
A23: PARTE VARIABILE
A25: Ripartizione costi variabili (dato reale) | I25: ='DATI INPUT'!G20 -> 0.53410767
A27: Totale costi variabili attribuibili alle utenze domestiche | K27: =(K5*I25)-M5 -> 91269.6
H29: % intervallo | I29: numero utenze per classe | J29: coefficiente scelto DPR 158 | K29: numero utenze riparametrato | L29: ripartizione costi variabili per classe di abitanti | M29: Tariffa Variabile (€/Utenza)
A30: Numero totale utenze domestiche con 1 componenti nucleo familiare | H30: ='DATI INPUT'!F95 -> 85 | I30: ='DATI INPUT'!E30 -> 206 | J30: ='DATI INPUT'!E95 -> 0.94 | K30: =I30*J30 -> 193.64 | L30: =K27/K37*K30 -> 14719.812 | M30: =L30/I30 -> 71.455398
A31: Numero totale utenze domestiche con 2 componenti nucleo familiare | H31: ='DATI INPUT'!F96 -> 68 | I31: ='DATI INPUT'!E31 -> 214 | J31: ='DATI INPUT'!E96 -> 1.672 | K31: =I31*J31 -> 357.808 | L31: =K27/K37*K31 -> 27199.269 | M31: =L31/I31 -> 127.09939
A32: Numero totale utenze domestiche con 3 componenti nucleo familiare | H32: ='DATI INPUT'!F97 -> 52 | I32: ='DATI INPUT'!E32 -> 188 | J32: ='DATI INPUT'!E97 -> 2.06 | K32: =I32*J32 -> 387.28 | L32: =K27/K37*K32 -> 29439.624 | M32: =L32/I32 -> 156.59374
A33: Numero totale utenze domestiche con 4 componenti nucleo familiare | H33: ='DATI INPUT'!F98 -> 34 | I33: ='DATI INPUT'!E33 -> 69 | J33: ='DATI INPUT'!E98 -> 2.472 | K33: =I33*J33 -> 170.568 | L33: =K27/K37*K33 -> 12965.962 | M33: =L33/I33 -> 187.91249
A34: Numero totale utenze domestiche con 5 componenti nucleo familiare | H34: ='DATI INPUT'!F99 -> 17 | I34: ='DATI INPUT'!E34 -> 19 | J34: ='DATI INPUT'!E99 -> 3.019 | K34: =I34*J34 -> 57.361 | L34: =K27/K37*K34 -> 4360.3756 | M34: =L34/I34 -> 229.49345
A35: Numero totale utenze domestiche con 6 o più comp. nucleo familiare | H35: ='DATI INPUT'!F100 -> 0 | I35: ='DATI INPUT'!E35 -> 10 | J35: ='DATI INPUT'!E100 -> 3.4 | K35: =I35*J35 -> 34 | L35: =K27/K37*K35 -> 2584.557 | M35: =L35/I35 -> 258.4557
A36: Numero totale utenze domestiche tenute a disposizione | H36: ='DATI INPUT'!F101 -> 0 | I36: ='DATI INPUT'!E37 -> 1e-05 | J36: ='DATI INPUT'!E101 -> 0 | K36: =I36*J36 -> 0 | L36: =K27/K37*K36 -> 0 | M36: =L36/I36 -> 0
I37: =SUM(I30:I36) -> 706.00001 | K37: =SUM(K30:K35) -> 1200.657 | L37: =SUM(L30:L35) -> 91269.6
A39: SINTESI
A41: TARI 2025 | E41: Tariffa fissa €/mq. | F41: mq. Medi | G41: Totale parte fissa | H41: Tariffa Variabile | I41: totale TARI | J41: imposta prov.le (5%) | K41: Maggiorazione Statale (0,30€) | M41: TOTALE PREV. 2025
A42: UD con 1 componenti | E42: =M14 -> 0.61606438 | F42: ='DATI INPUT'!F30 -> 137.6833 | G42: =E42*F42 -> 84.821778 | H42: =M30 -> 71.455398 | I42: =G42+H42 -> 156.27718 | J42: =I42*5% -> 7.8138588 | K42: 0 | M42: =I42+J42 -> 164.09103
A43: UD con 2 componenti | E43: =M15 -> 0.71874178 | F43: ='DATI INPUT'!F31 -> 165.69528 | G43: =E43*F43 -> 119.09212 | H43: =M31 -> 127.09939 | I43: =G43+H43 -> 246.19151 | J43: =I43*5% -> 12.309575 | K43: 0 | M43: =I43+J43 -> 258.50109
A44: UD con 3 componenti | E44: =M16 -> 0.79208278 | F44: ='DATI INPUT'!F32 -> 147.74963 | G44: =E44*F44 -> 117.02994 | H44: =M32 -> 156.59374 | I44: =G44+H44 -> 273.62368 | J44: =I44*5% -> 13.681184 | K44: 0 | M44: =I44+J44 -> 287.30486
A45: UD con 4 componenti | E45: =M17 -> 0.85075558 | F45: ='DATI INPUT'!F33 -> 167.7271 | G45: =E45*F45 -> 142.69477 | H45: =M33 -> 187.91249 | I45: =G45+H45 -> 330.60726 | J45: =I45*5% -> 16.530363 | K45: 0 | M45: =I45+J45 -> 347.13762
A46: UD con 5 componenti | E46: =M18 -> 0.90942837 | F46: ='DATI INPUT'!F34 -> 174.97026 | G46: =E46*F46 -> 159.12292 | H46: =M34 -> 229.49345 | I46: =G46+H46 -> 388.61638 | J46: =I46*5% -> 19.430819 | K46: 0 | M46: =I46+J46 -> 408.04719
A47: UD con 6 o più componenti | E47: =M19 -> 0.95343297 | F47: ='DATI INPUT'!F35 -> 186.9977 | G47: =E47*F47 -> 178.28977 | H47: =M35 -> 258.4557 | I47: =G47+H47 -> 436.74547 | J47: =I47*5% -> 21.837273 | K47: 0 | M47: =I47+J47 -> 458.58274
A48: Utenze domestiche tenute a disposizione | E48: =M20 -> 0 | F48: ='DATI INPUT'!F37 -> 1 | G48: =E48*F48 -> 0 | H48: =M36 -> 0 | I48: =G48+H48 -> 0 | J48: =I48*5% -> 0 | K48: 0 | M48: =I48+J48 -> 0
A50: TARI 2024 | E50: Tariffa fissa €/mq. | F50: mq. Medi | G50: Totale parte fissa | H50: Tariffa Variabile | I50: totale TARI | J50: imposta prov.le (5%) | K50: Maggiorazione Statale (0,30€) | M50: TOTALE 2024 | O50: DIFFERENZA 2025/2024
A51: UD con 1 componenti | E51: =RiepilogoTariffe!H6 -> 0.64 | F51: =F42 -> 137.6833 | G51: =E51*F51 -> 88.117313 | H51: =RiepilogoTariffe!I6 -> 70.04 | I51: =G51+H51 -> 158.15731 | J51: =I51*5% -> 7.9078656 | K51: 0 | M51: =I51+J51 -> 166.06518 | O51: =M42-M51 -> -1.9741436
A52: UD con 2 componenti | E52: =RiepilogoTariffe!H7 -> 0.75 | F52: =F43 -> 165.69528 | G52: =E52*F52 -> 124.27146 | H52: =RiepilogoTariffe!I7 -> 124.43 | I52: =G52+H52 -> 248.70146 | J52: =I52*5% -> 12.435073 | K52: 0 | M52: =I52+J52 -> 261.13653 | O52: =M43-M52 -> -2.6354481
A53: UD con 3 componenti | E53: =RiepilogoTariffe!H8 -> 0.83 | F53: =F44 -> 147.74963 | G53: =E53*F53 -> 122.63219 | H53: =RiepilogoTariffe!I8 -> 153.48 | I53: =G53+H53 -> 276.11219 | J53: =I53*5% -> 13.80561 | K53: 0 | M53: =I53+J53 -> 289.9178 | O53: =M44-M53 -> -2.6129362
A54: UD con 4 componenti | E54: =RiepilogoTariffe!H9 -> 0.89 | F54: =F45 -> 167.7271 | G54: =E54*F54 -> 149.27712 | H54: =RiepilogoTariffe!I9 -> 184.03 | I54: =G54+H54 -> 333.30712 | J54: =I54*5% -> 16.665356 | K54: 0 | M54: =I54+J54 -> 349.97248 | O54: =M45-M54 -> -2.8348527
A55: UD con 5 componenti | E55: =RiepilogoTariffe!H10 -> 0.95 | F55: =F46 -> 174.97026 | G55: =E55*F55 -> 166.22175 | H55: =RiepilogoTariffe!I10 -> 225.01 | I55: =G55+H55 -> 391.23175 | J55: =I55*5% -> 19.561588 | K55: 0 | M55: =I55+J55 -> 410.79334 | O55: =M46-M55 -> -2.7461426
A56: UD con 6 o più componenti | E56: =RiepilogoTariffe!H11 -> 1 | F56: =F47 -> 186.9977 | G56: =E56*F56 -> 186.9977 | H56: =RiepilogoTariffe!I11 -> 253.32 | I56: =G56+H56 -> 440.3177 | J56: =I56*5% -> 22.015885 | K56: 0 | M56: =I56+J56 -> 462.33359 | O56: =M47-M56 -> -3.7508432
A57: Utenze domestiche tenute a disposizione | E57: =RiepilogoTariffe!H12 -> 0 | F57: =F48 -> 1 | G57: =E57*F57 -> 0 | H57: =RiepilogoTariffe!I12 -> 0 | I57: =G57+H57 -> 0 | J57: =I57*5% -> 0 | K57: 0 | M57: =I57+J57 -> 0 | O57: =M48-M57 -> 0

Sheet UtenzeNonDomestiche
A1: UTENZE NON DOMESTICHE
A3: Totale costi | I3: ='DATI INPUT'!C25 -> 213603
A5: QUOTA UTENZE NON DOMESTICHE | I5: ='DATI INPUT'!E25 -> 0.2 | J5: pari a: | K5: =I3*I5 -> 42720.6
A7: PARTE FISSA
A9: Ripartizione costi fissi (dato reale) | I9: ='DATI INPUT'!C20 -> 0.46589233
A11: Totale costi fissi attribuibili alle utenze non domestiche | K11: =K5*I9 -> 19903.2
I13: superfici assoggettabili | J13: coefficiente scelto DPR 158 | K13: superfici riparametrate | L13: ripartizione costi in classi di attività | M13: costi fissi €/mq. per classe
A14: 1 | B14: Musei, biblioteche, scuole, associazioni, luoghi di culto | I14: =IF('DATI INPUT'!$I$48="X",'DATI INPUT'!G48,'DATI INPUT'!E48) -> 74.45 | J14: ='DATI INPUT'!F105 -> 0.51 | K14: =I14*J14 -> 37.9695 | L14: =K11/K46*K14 -> 51.018313 | M14: =L14/I14 -> 0.68526949
A15: 2 | B15: Campeggi, distributori carburanti, impianti sportivi | I15: =IF('DATI INPUT'!$I$48="X",'DATI INPUT'!G49,'DATI INPUT'!E49) -> 1e-11 | J15: ='DATI INPUT'!F106 -> 0.8 | K15: =I15*J15 -> 8e-12 | L15: =K11/K46*K15 -> 1.0749325e-11 | M15: =L15/I15 -> 1.0749325
A16: 3 | B16: Stabilimenti balneari | I16: =IF('DATI INPUT'!$I$48="X",'DATI INPUT'!G50,'DATI INPUT'!E50) -> 1e-11 | J16: ='DATI INPUT'!F107 -> 0.63 | K16: =I16*J16 -> 6.3e-12 | L16: =K11/K46*K16 -> 8.4650937e-12 | M16: =L16/I16 -> 0.84650937
A17: 4 | B17: Esposizioni, autosaloni | I17: =IF('DATI INPUT'!$I$48="X",'DATI INPUT'!G51,'DATI INPUT'!E51) -> 91 | J17: ='DATI INPUT'!F108 -> 0.43 | K17: =I17*J17 -> 39.13 | L17: =K11/K46*K17 -> 52.577637 | M17: =L17/I17 -> 0.57777623
A18: 5 | B18: Alberghi con ristorante | I18: =IF('DATI INPUT'!$I$48="X",'DATI INPUT'!G52,'DATI INPUT'!E52) -> 0.001 | J18: ='DATI INPUT'!F109 -> 1.33 | K18: =I18*J18 -> 0.00133 | L18: =K11/K46*K18 -> 0.0017870753 | M18: =L18/I18 -> 1.7870753
A19: 6 | B19: Alberghi senza ristorante | I19: =IF('DATI INPUT'!$I$48="X",'DATI INPUT'!G53,'DATI INPUT'!E53) -> 58.81 | J19: ='DATI INPUT'!F110 -> 0.91 | K19: =I19*J19 -> 53.5171 | L19: =K11/K46*K19 -> 71.90909 | M19: =L19/I19 -> 1.2227358
A20: 7 | B20: Case di cura e riposo | I20: =IF('DATI INPUT'!$I$48="X",'DATI INPUT'!G54,'DATI INPUT'!E54) -> 1e-11 | J20: ='DATI INPUT'!F111 -> 1 | K20: =I20*J20 -> 1e-11 | L20: =K11/K46*K20 -> 1.3436657e-11 | M20: =L20/I20 -> 1.3436657
A21: 8 | B21: Uffici, agenzie, studi professionali | I21: =IF('DATI INPUT'!$I$48="X",'DATI INPUT'!G55,'DATI INPUT'!E55) -> 1364.86 | J21: ='DATI INPUT'!F112 -> 1.13 | K21: =I21*J21 -> 1542.2918 | L21: =K11/K46*K21 -> 2072.3245 | M21: =L21/I21 -> 1.5183422
A22: 9 | B22: Banche ed istituti di credito | I22: =IF('DATI INPUT'!$I$48="X",'DATI INPUT'!G56,'DATI INPUT'!E56) -> 232.74 | J22: ='DATI INPUT'!F113 -> 0.58 | K22: =I22*J22 -> 134.9892 | L22: =K11/K46*K22 -> 181.38035 | M22: =L22/I22 -> 0.77932608
A23: 10 | B23: Negozi abbigliamento, calzature, libreria, cartoleria, ferramenta e altri beni durevoli | I23: 0.001 | J23: ='DATI INPUT'!F114 -> 1.11 | K23: =I23*J23 -> 0.00111 | L23: =K11/K46*K23 -> 0.0014914689 | M23: =L23/I23 -> 1.4914689
A24: 11 | B24: Edicola, farmacia, tabaccaio, plurilicenze | I24: =IF('DATI INPUT'!$I$48="X",'DATI INPUT'!G58,'DATI INPUT'!E58) -> 90 | J24: ='DATI INPUT'!F115 -> 1.52 | K24: =I24*J24 -> 136.8 | L24: =K11/K46*K24 -> 183.81346 | M24: =L24/I24 -> 2.0423718
A25: 12 | B25: Attività artigianali tipo botteghe: falegname, idraulico, fabbro, elettricista | I25: =IF('DATI INPUT'!$I$48="X",'DATI INPUT'!G59,'DATI INPUT'!E59) -> 54.6 | J25: ='DATI INPUT'!F116 -> 1.04 | K25: =I25*J25 -> 56.784 | L25: =K11/K46*K25 -> 76.298711 | M25: =L25/I25 -> 1.3974123
A26: 13 | B26: Carrozzeria, autofficina, elettrauto | I26: =IF('DATI INPUT'!$I$48="X",'DATI INPUT'!G60,'DATI INPUT'!E60) -> 1e-11 | J26: ='DATI INPUT'!F117 -> 1.16 | K26: =I26*J26 -> 1.16e-11 | L26: =K11/K46*K26 -> 1.5586522e-11 | M26: =L26/I26 -> 1.5586522
A27: 14 | B27: Attività industriali con capannoni di produzione | I27: =IF('DATI INPUT'!$I$48="X",'DATI INPUT'!G61,'DATI INPUT'!E61) -> 3285.45 | J27: ='DATI INPUT'!F118 -> 0.91 | K27: =I27*J27 -> 2989.7595 | L27: =K11/K46*K27 -> 4017.2372 | M27: =L27/I27 -> 1.2227358
A28: 15 | B28: Attività artigianali di produzione beni specifici | I28: =IF('DATI INPUT'!$I$48="X",'DATI INPUT'!G62,'DATI INPUT'!E62) -> 5943.02 | J28: ='DATI INPUT'!F119 -> 1.09 | K28: =I28*J28 -> 6477.8918 | L28: =K11/K46*K28 -> 8704.1208 | M28: =L28/I28 -> 1.4645956
A29: 16 | B29: Ristoranti, trattorie, osterie, pizzerie, pub | I29: =IF('DATI INPUT'!$I$48="X",'DATI INPUT'!G63,'DATI INPUT'!E63) -> 164.9 | J29: ='DATI INPUT'!F120 -> 4.84 | K29: =I29*J29 -> 798.116 | L29: =K11/K46*K29 -> 1072.4011 | M29: =L29/I29 -> 6.5033418
A30: 17 | B30: Bar, caffè, pasticceria | I30: =IF('DATI INPUT'!$I$48="X",'DATI INPUT'!G64,'DATI INPUT'!E64) -> 514.45 | J30: ='DATI INPUT'!F121 -> 3.64 | K30: =I30*J30 -> 1872.598 | L30: =K11/K46*K30 -> 2516.1456 | M30: =L30/I30 -> 4.890943
A31: 18 | B31: Supermercato, pane e pasta, macelleria, salumi e formaggi, generi alimentari | I31: =IF('DATI INPUT'!$I$48="X",'DATI INPUT'!G65,'DATI INPUT'!E65) -> 70.5 | J31: ='DATI INPUT'!F122 -> 2.132 | K31: =I31*J31 -> 150.306 | L31: =K11/K46*K31 -> 201.96101 | M31: =L31/I31 -> 2.8646952
A32: 19 | B32: Plurilicenze alimentari e/o miste | I32: =IF('DATI INPUT'!$I$48="X",'DATI INPUT'!G66,'DATI INPUT'!E66) -> 239.44 | J32: ='DATI INPUT'!F123 -> 2.182 | K32: =I32*J32 -> 522.45808 | L32: =K11/K46*K32 -> 702.00898 | M32: =L32/I32 -> 2.9318785
A33: 20 | B33: Ortofrutta, pescherie, fiori e piante, pizza al taglio | I33: =IF('DATI INPUT'!$I$48="X",'DATI INPUT'!G67,'DATI INPUT'!E67) -> 1e-11 | J33: ='DATI INPUT'!F124 -> 6.06 | K33: =I33*J33 -> 6.06e-11 | L33: =K11/K46*K33 -> 8.1426139e-11 | M33: =L33/I33 -> 8.1426139
A34: 21 | B34: Discoteche, night club | I34: =IF('DATI INPUT'!$I$48="X",'DATI INPUT'!G68,'DATI INPUT'!E68) -> 1e-11 | J34: ='DATI INPUT'!F125 -> 1.64 | K34: =I34*J34 -> 1.64e-11 | L34: =K11/K46*K34 -> 2.2036117e-11 | M34: =L34/I34 -> 2.2036117
I35: =IF('DATI INPUT'!$I$48="X",'DATI INPUT'!G69,'DATI INPUT'!E69) -> 0 | J35: ='DATI INPUT'!F126 -> 0 | K35: =I35*J35 -> 0 | L35: =K11/K46*K35 -> 0 | M35: =L35/I35 -> #DIV/0!
I36: =IF('DATI INPUT'!$I$48="X",'DATI INPUT'!G70,'DATI INPUT'!E70) -> 0 | J36: ='DATI INPUT'!F127 -> 0 | K36: =I36*J36 -> 0 | L36: =K11/K46*K36 -> 0 | M36: =L36/I36 -> #DIV/0!
I37: =IF('DATI INPUT'!$I$48="X",'DATI INPUT'!G71,'DATI INPUT'!E71) -> 0 | J37: ='DATI INPUT'!F128 -> 0 | K37: =I37*J37 -> 0 | L37: =K11/K46*K37 -> 0 | M37: =L37/I37 -> #DIV/0!
I38: =IF('DATI INPUT'!$I$48="X",'DATI INPUT'!G72,'DATI INPUT'!E72) -> 0 | J38: ='DATI INPUT'!F129 -> 0 | K38: =I38*J38 -> 0 | L38: =K11/K46*K38 -> 0 | M38: =L38/I38 -> #DIV/0!
I39: =IF('DATI INPUT'!$I$48="X",'DATI INPUT'!G73,'DATI INPUT'!E73) -> 0 | J39: ='DATI INPUT'!F130 -> 0 | K39: =I39*J39 -> 0 | L39: =K11/K46*K39 -> 0 | M39: =L39/I39 -> #DIV/0!
I40: =IF('DATI INPUT'!$I$48="X",'DATI INPUT'!G74,'DATI INPUT'!E74) -> 0 | J40: ='DATI INPUT'!F131 -> 0 | K40: =I40*J40 -> 0 | L40: =K11/K46*K40 -> 0 | M40: =L40/I40 -> #DIV/0!
I41: =IF('DATI INPUT'!$I$48="X",'DATI INPUT'!G75,'DATI INPUT'!E75) -> 0 | J41: ='DATI INPUT'!F132 -> 0 | K41: =I41*J41 -> 0 | L41: =K11/K46*K41 -> 0 | M41: =L41/I41 -> #DIV/0!
I42: =IF('DATI INPUT'!$I$48="X",'DATI INPUT'!G76,'DATI INPUT'!E76) -> 0 | J42: ='DATI INPUT'!F133 -> 0 | K42: =I42*J42 -> 0 | L42: =K11/K46*K42 -> 0 | M42: =L42/I42 -> #DIV/0!
I43: =IF('DATI INPUT'!$I$48="X",'DATI INPUT'!G77,'DATI INPUT'!E77) -> 0 | J43: ='DATI INPUT'!F134 -> 0 | K43: =I43*J43 -> 0 | L43: =K11/K46*K43 -> 0 | M43: =L43/I43 -> #DIV/0!
I44: =IF('DATI INPUT'!$I$48="X",'DATI INPUT'!G78,'DATI INPUT'!E78) -> 0 | J44: ='DATI INPUT'!F135 -> 0 | K44: =I44*J44 -> 0 | L44: =K11/K46*K44 -> 0 | M44: =L44/I44 -> #DIV/0!
I45: =IF('DATI INPUT'!$I$48="X",'DATI INPUT'!G79,'DATI INPUT'!E79) -> 0 | J45: ='DATI INPUT'!F136 -> 0 | K45: =I45*J45 -> 0 | L45: =K11/K46*K45 -> 0 | M45: =L45/I45 -> #DIV/0!
I46: =SUM(I14:I45) -> 12184.222 | K46: =SUM(K14:K45) -> 14812.613 | L46: =SUM(L14:L45) -> 19903.2
A48: PARTE VARIABILE
A50: Ripartizione costi variabili (dato reale) | I50: ='DATI INPUT'!G20 -> 0.53410767
A52: Totale costi variabili attribuibili alle utenze non domestiche | K52: =(K5*I50)+M5 -> 22817.4
I54: superfici assoggettabili | J54: parametro kg/mq. anno scelto DPR 158 | K54: kg./anno ottenuti | L54: ripartizione costi variabili per classe di attività | M54: costi variabili €/mq. per classe
A55: 1 | B55: Musei, biblioteche, scuole, associazioni, luoghi di culto | I55: ='DATI INPUT'!G48 -> 74.45 | J55: ='DATI INPUT'!J105 -> 4.2 | K55: =I55*J55 -> 312.69 | L55: =K52/K87*K55 -> 58.714101 | M55: =L55/I55 -> 0.78863802
A56: 2 | B56: Campeggi, distributori carburanti, impianti sportivi | I56: ='DATI INPUT'!G49 -> 1e-11 | J56: ='DATI INPUT'!J106 -> 6.55 | K56: =I56*J56 -> 6.55e-11 | L56: =K52/K87*K56 -> 1.2298998e-11 | M56: =L56/I56 -> 1.2298998
A57: 3 | B57: Stabilimenti balneari | I57: ='DATI INPUT'!G50 -> 1e-11 | J57: ='DATI INPUT'!J107 -> 5.2 | K57: =I57*J57 -> 5.2e-11 | L57: =K52/K87*K57 -> 9.7640898e-12 | M57: =L57/I57 -> 0.97640898
A58: 4 | B58: Esposizioni, autosaloni | I58: ='DATI INPUT'!G51 -> 91 | J58: ='DATI INPUT'!J108 -> 3.55 | K58: =I58*J58 -> 323.05 | L58: =K52/K87*K58 -> 60.659408 | M58: =L58/I58 -> 0.6665869
A59: 5 | B59: Alberghi con ristorante | I59: ='DATI INPUT'!G52 -> 0.001 | J59: ='DATI INPUT'!J109 -> 10.93 | K59: =I59*J59 -> 0.01093 | L59: =K52/K87*K59 -> 0.0020523366 | M59: =L59/I59 -> 2.0523366
A60: 6 | B60: Alberghi senza ristorante | I60: ='DATI INPUT'!G53 -> 58.81 | J60: ='DATI INPUT'!J110 -> 7.49 | K60: =I60*J60 -> 440.4869 | L60: =K52/K87*K60 -> 82.710647 | M60: =L60/I60 -> 1.4064045
A61: 7 | B61: Case di cura e riposo | I61: ='DATI INPUT'!G54 -> 1e-11 | J61: ='DATI INPUT'!J111 -> 8.19 | K61: =I61*J61 -> 8.19e-11 | L61: =K52/K87*K61 -> 1.5378441e-11 | M61: =L61/I61 -> 1.5378441
A62: 8 | B62: Uffici, agenzie, studi professionali | I62: ='DATI INPUT'!G55 -> 1364.86 | J62: ='DATI INPUT'!J112 -> 9.3 | K62: =I62*J62 -> 12693.198 | L62: =K52/K87*K62 -> 2383.4139 | M62: =L62/I62 -> 1.7462699
A63: 9 | B63: Banche ed istituti di credito | I63: ='DATI INPUT'!G56 -> 232.74 | J63: ='DATI INPUT'!J113 -> 4.78 | K63: =I63*J63 -> 1112.4972 | L63: =K52/K87*K63 -> 208.89466 | M63: =L63/I63 -> 0.89754518
A64: 10 | B64: Negozi abbigliamento, calzature, libreria, cartoleria, ferramenta e altri beni durevoli | I64: 0.001 | J64: ='DATI INPUT'!J114 -> 9.12 | K64: =I64*J64 -> 0.00912 | L64: =K52/K87*K64 -> 0.0017124711 | M64: =L64/I64 -> 1.7124711
A65: 11 | B65: Edicola, farmacia, tabaccaio, plurilicenze | I65: ='DATI INPUT'!G58 -> 90 | J65: ='DATI INPUT'!J115 -> 12.45 | K65: =I65*J65 -> 1120.5 | L65: =K52/K87*K65 -> 210.39736 | M65: =L65/I65 -> 2.3377484
A66: 12 | B66: Attività artigianali tipo botteghe: falegname, idraulico, fabbro, elettricista | I66: ='DATI INPUT'!G59 -> 54.6 | J66: ='DATI INPUT'!J116 -> 8.5 | K66: =I66*J66 -> 464.1 | L66: =K52/K87*K66 -> 87.144501 | M66: =L66/I66 -> 1.5960531
A67: 13 | B67: Carrozzeria, autofficina, elettrauto | I67: ='DATI INPUT'!G60 -> 1e-11 | J67: ='DATI INPUT'!J117 -> 9.48 | K67: =I67*J67 -> 9.48e-11 | L67: =K52/K87*K67 -> 1.7800687e-11 | M67: =L67/I67 -> 1.7800687
A68: 14 | B68: Attività industriali con capannoni di produzione | I68: ='DATI INPUT'!G61 -> 3285.45 | J68: ='DATI INPUT'!J118 -> 7.5 | K68: =I68*J68 -> 24640.875 | L68: =K52/K87*K68 -> 4626.8407 | M68: =L68/I68 -> 1.4082822
A69: 15 | B69: Attività artigianali di produzione beni specifici | I69: ='DATI INPUT'!G62 -> 5943.02 | J69: ='DATI INPUT'!J119 -> 8.92 | K69: =I69*J69 -> 53011.738 | L69: =K52/K87*K69 -> 9954.0649 | M69: =L69/I69 -> 1.6749169
A70: 16 | B70: Ristoranti, trattorie, osterie, pizzerie, pub | I70: ='DATI INPUT'!G63 -> 164.9 | J70: ='DATI INPUT'!J120 -> 39.67 | K70: =I70*J70 -> 6541.583 | L70: =K52/K87*K70 -> 1228.3193 | M70: =L70/I70 -> 7.4488739
A71: 17 | B71: Bar, caffè, pasticceria | I71: ='DATI INPUT'!G64 -> 514.45 | J71: ='DATI INPUT'!J121 -> 29.82 | K71: =I71*J71 -> 15340.899 | L71: =K52/K87*K71 -> 2880.5753 | M71: =L71/I71 -> 5.59933
A72: 18 | B72: Supermercato, pane e pasta, macelleria, salumi e formaggi, generi alimentari | I72: ='DATI INPUT'!G65 -> 70.5 | J72: ='DATI INPUT'!J122 -> 17.502 | K72: =I72*J72 -> 1233.891 | L72: =K52/K87*K72 -> 231.68889 | M72: =L72/I72 -> 3.2863673
A73: 19 | B73: Plurilicenze alimentari e/o miste | I73: ='DATI INPUT'!G66 -> 239.44 | J73: ='DATI INPUT'!J123 -> 17.882 | K73: =I73*J73 -> 4281.6661 | L73: =K52/K87*K73 -> 803.97254 | M73: =L73/I73 -> 3.3577203
A74: 20 | B74: Ortofrutta, pescherie, fiori e piante, pizza al taglio | I74: ='DATI INPUT'!G67 -> 1e-11 | J74: ='DATI INPUT'!J124 -> 49.72 | K74: =I74*J74 -> 4.972e-10 | L74: =K52/K87*K74 -> 9.335972e-11 | M74: =L74/I74 -> 9.335972
A75: 21 | B75: Discoteche, night club | I75: ='DATI INPUT'!G68 -> 1e-11 | J75: ='DATI INPUT'!J125 -> 13.45 | K75: =I75*J75 -> 1.345e-10 | L75: =K52/K87*K75 -> 2.5255194e-11 | M75: =L75/I75 -> 2.5255194
I76: ='DATI INPUT'!G69 -> 0 | J76: ='DATI INPUT'!J126 -> 0 | K76: =I76*J76 -> 0 | L76: =K52/K87*K76 -> 0 | M76: =L76/I76 -> #DIV/0!
I77: ='DATI INPUT'!G70 -> 0 | J77: ='DATI INPUT'!J127 -> 0 | K77: =I77*J77 -> 0 | L77: =K52/K87*K77 -> 0 | M77: =L77/I77 -> #DIV/0!
I78: ='DATI INPUT'!G71 -> 0 | J78: ='DATI INPUT'!J128 -> 0 | K78: =I78*J78 -> 0 | L78: =K52/K87*K78 -> 0 | M78: =L78/I78 -> #DIV/0!
I79: ='DATI INPUT'!G72 -> 0 | J79: ='DATI INPUT'!J129 -> 0 | K79: =I79*J79 -> 0 | L79: =K52/K87*K79 -> 0 | M79: =L79/I79 -> #DIV/0!
I80: ='DATI INPUT'!G73 -> 0 | J80: ='DATI INPUT'!J130 -> 0 | K80: =I80*J80 -> 0 | L80: =K52/K87*K80 -> 0 | M80: =L80/I80 -> #DIV/0!
I81: ='DATI INPUT'!G74 -> 0 | J81: ='DATI INPUT'!J131 -> 0 | K81: =I81*J81 -> 0 | L81: =K52/K87*K81 -> 0 | M81: =L81/I81 -> #DIV/0!
I82: ='DATI INPUT'!G75 -> 0 | J82: ='DATI INPUT'!J132 -> 0 | K82: =I82*J82 -> 0 | L82: =K52/K87*K82 -> 0 | M82: =L82/I82 -> #DIV/0!
I83: ='DATI INPUT'!G76 -> 0 | J83: ='DATI INPUT'!J133 -> 0 | K83: =I83*J83 -> 0 | L83: =K52/K87*K83 -> 0 | M83: =L83/I83 -> #DIV/0!
I84: ='DATI INPUT'!G77 -> 0 | J84: ='DATI INPUT'!J134 -> 0 | K84: =I84*J84 -> 0 | L84: =K52/K87*K84 -> 0 | M84: =L84/I84 -> #DIV/0!
I85: ='DATI INPUT'!G78 -> 0 | J85: ='DATI INPUT'!J135 -> 0 | K85: =I85*J85 -> 0 | L85: =K52/K87*K85 -> 0 | M85: =L85/I85 -> #DIV/0!
I86: ='DATI INPUT'!G79 -> 0 | J86: ='DATI INPUT'!J136 -> 0 | K86: =I86*J86 -> 0 | L86: =K52/K87*K86 -> 0 | M86: =L86/I86 -> #DIV/0!
I87: =SUM(I55:I86) -> 12184.222 | K87: =SUM(K55:K86) -> 121517.19 | L87: =SUM(L55:L86) -> 22817.4
A89: SINTESI
G91: TARI 2025 | K91: TARI 2024
G92: costi fissi €/mq. per classe | H92: costi variabili €/mq. per classe | I92: totale al mq. | K92: costi fissi €/mq. per classe | L92: costi variabili €/mq. per classe | M92: totale al mq. | O92: DIFFERENZA 2025/2024
A93: 1 | B93: Musei, biblioteche, scuole, associazioni, luoghi di culto | G93: =M14 -> 0.68526949 | H93: =M55 -> 0.78863802 | I93: =G93+H93 -> 1.4739075 | K93: =RiepilogoTariffe!H19 -> 0.7 | L93: =RiepilogoTariffe!I19 -> 0.78 | M93: =K93+L93 -> 1.48 | O93: =I93-M93 -> -0.0060924911
A94: 2 | B94: Campeggi, distributori carburanti, impianti sportivi | G94: =M15 -> 1.0749325 | H94: =M56 -> 1.2298998 | I94: =G94+H94 -> 2.3048323 | K94: =RiepilogoTariffe!H20 -> 1.1 | L94: =RiepilogoTariffe!I20 -> 1.22 | M94: =K94+L94 -> 2.32 | O94: =I94-M94 -> -0.015167699
A95: 3 | B95: Stabilimenti balneari | G95: =M16 -> 0.84650937 | H95: =M57 -> 0.97640898 | I95: =G95+H95 -> 1.8229183 | K95: =RiepilogoTariffe!H21 -> 0.87 | L95: =RiepilogoTariffe!I21 -> 0.97 | M95: =K95+L95 -> 1.84 | O95: =I95-M95 -> -0.017081654
A96: 4 | B96: Esposizioni, autosaloni | G96: =M17 -> 0.57777623 | H96: =M58 -> 0.6665869 | I96: =G96+H96 -> 1.2443631 | K96: =RiepilogoTariffe!H22 -> 0.59 | L96: =RiepilogoTariffe!I22 -> 0.66 | M96: =K96+L96 -> 1.25 | O96: =I96-M96 -> -0.0056368664
A97: 5 | B97: Alberghi con ristorante | G97: =M18 -> 1.7870753 | H97: =M59 -> 2.0523366 | I97: =G97+H97 -> 3.8394119 | K97: =RiepilogoTariffe!H23 -> 1.83 | L97: =RiepilogoTariffe!I23 -> 2.03 | M97: =K97+L97 -> 3.86 | O97: =I97-M97 -> -0.020588105
A98: 6 | B98: Alberghi senza ristorante | G98: =M19 -> 1.2227358 | H98: =M60 -> 1.4064045 | I98: =G98+H98 -> 2.6291402 | K98: =RiepilogoTariffe!H24 -> 1.25 | L98: =RiepilogoTariffe!I24 -> 1.39 | M98: =K98+L98 -> 2.64 | O98: =I98-M98 -> -0.010859776
A99: 7 | B99: Case di cura e riposo | G99: =M20 -> 1.3436657 | H99: =M61 -> 1.5378441 | I99: =G99+H99 -> 2.8815098 | K99: =RiepilogoTariffe!H25 -> 1.37 | L99: =RiepilogoTariffe!I25 -> 1.52 | M99: =K99+L99 -> 2.89 | O99: =I99-M99 -> -0.0084901964
A100: 8 | B100: Uffici, agenzie | G100: =M21 -> 1.5183422 | H100: =M62 -> 1.7462699 | I100: =G100+H100 -> 3.2646121 | K100: =RiepilogoTariffe!H26 -> 1.55 | L100: =RiepilogoTariffe!I26 -> 1.73 | M100: =K100+L100 -> 3.28 | O100: =I100-M100 -> -0.015387898
A101: 9 | B101: Banche ed istituti di credito, studi professionali | G101: =M22 -> 0.77932608 | H101: =M63 -> 0.89754518 | I101: =G101+H101 -> 1.6768713 | K101: =RiepilogoTariffe!H27 -> 0.8 | L101: =RiepilogoTariffe!I27 -> 0.89 | M101: =K101+L101 -> 1.69 | O101: =I101-M101 -> -0.013128739
A102: 10 | B102: Negozi abbigliamento, calzature, libreria, cartoleria, ferramenta e altri beni durevoli | G102: =M23 -> 1.4914689 | H102: =M64 -> 1.7124711 | I102: =G102+H102 -> 3.20394 | K102: =RiepilogoTariffe!H28 -> 1.52 | L102: =RiepilogoTariffe!I28 -> 1.69 | M102: =K102+L102 -> 3.21 | O102: =I102-M102 -> -0.0060599832
A103: 11 | B103: Edicola, farmacia, tabaccaio, plurilicenze | G103: =M24 -> 2.0423718 | H103: =M65 -> 2.3377484 | I103: =G103+H103 -> 4.3801202 | K103: =RiepilogoTariffe!H29 -> 2.09 | L103: =RiepilogoTariffe!I29 -> 2.31 | M103: =K103+L103 -> 4.4 | O103: =I103-M103 -> -0.019879773
A104: 12 | B104: Attività artigianali tipo botteghe: falegname, idraulico, fabbro, elettricista | G104: =M25 -> 1.3974123 | H104: =M66 -> 1.5960531 | I104: =G104+H104 -> 2.9934654 | K104: =RiepilogoTariffe!H30 -> 1.43 | L104: =RiepilogoTariffe!I30 -> 1.58 | M104: =K104+L104 -> 3.01 | O104: =I104-M104 -> -0.016534573
... A113: 21 | B113: Discoteche, night club | G113: =M34 -> 2.2036117 | H113: =M75 -> 2.5255194 | I113: =G113+H113 -> 4.7291311 | K113: =RiepilogoTariffe!H39 -> 2.25 | L113: =RiepilogoTariffe!I39 -> 2.5 | M113: =K113+L113 -> 4.75 | O113: =I113-M113 -> -0.020868937
G114: =M35 -> #DIV/0! | H114: =M76 -> #DIV/0! | I114: =G114+H114 -> #DIV/0! | M114: =K114+L114 -> 0 | O114: =I114-M114 -> #DIV/0!
G115: =M36 -> #DIV/0! | H115: =M77 -> #DIV/0! | I115: =G115+H115 -> #DIV/0! | M115: =K115+L115 -> 0 | O115: =I115-M115 -> #DIV/0!
G116: =M37 -> #DIV/0! | H116: =M78 -> #DIV/0! | I116: =G116+H116 -> #DIV/0! | M116: =K116+L116 -> 0 | O116: =I116-M116 -> #DIV/0!
G117: =M38 -> #DIV/0! | H117: =M79 -> #DIV/0! | I117: =G117+H117 -> #DIV/0! | M117: =K117+L117 -> 0 | O117: =I117-M117 -> #DIV/0!
G118: =M39 -> #DIV/0! | H118: =M80 -> #DIV/0! | I118: =G118+H118 -> #DIV/0! | M118: =K118+L118 -> 0 | O118: =I118-M118 -> #DIV/0!
G119: =M40 -> #DIV/0! | H119: =M81 -> #DIV/0! | I119: =G119+H119 -> #DIV/0! | M119: =K119+L119 -> 0 | O119: =I119-M119 -> #DIV/0!
G120: =M41 -> #DIV/0! | H120: =M82 -> #DIV/0! | I120: =G120+H120 -> #DIV/0! | M120: =K120+L120 -> 0 | O120: =I120-M120 -> #DIV/0!
...

Sheet indivisibili
A3: totale metri quadri assoggettabili alla tassa | G3: =UtenzeDomestiche!I21+UtenzeNonDomestiche!I46+'DATI INPUT'!F48 -> 120550.28
A4: maggiorazione per mq. | G4: 0.3
A5: totale maggiorazione | G5: =G3*G4 -> 36165.085
B9: costi servizio polizia locale
B10: costi servizio anagrafe
B11: costi illuminazione pubblica
B12: costi manutenzione del verde e delle strade
G13: =SUM(G9:G12) -> 0

Sheet KcKd
B1: Dpr 158 | G1: + 50% -
B2: Kc | D2: Kd | G2: Kc | I2: Kd
A3: 1 | B3: 0.32 | C3: 0.51 | D3: 2.6 | E3: 4.2 | G3: =B3-(B3*50%) -> 0.16 | H3: =C3+(C3*50%) -> 0.765 | I3: =D3-(D3*50%) -> 1.3 | J3: =E3+(E3*50%) -> 6.3
A4: 2 | B4: 0.67 | C4: 0.8 | D4: 5.51 | E4: 6.55 | G4: =B4-B4*50% -> 0.335 | H4: =C4+(C4*50%) -> 1.2 | I4: =D4-(D4*50%) -> 2.755 | J4: =E4+(E4*50%) -> 9.825
A5: 3 | B5: 0.38 | C5: 0.63 | D5: 3.11 | E5: 5.2 | G5: =B5-B5*50% -> 0.19 | H5: =C5+(C5*50%) -> 0.945 | I5: =D5-(D5*50%) -> 1.555 | J5: =E5+(E5*50%) -> 7.8
A6: 4 | B6: 0.3 | C6: 0.43 | D6: 2.5 | E6: 3.55 | G6: =B6-B6*50% -> 0.15 | H6: =C6+(C6*50%) -> 0.645 | I6: =D6-(D6*50%) -> 1.25 | J6: =E6+(E6*50%) -> 5.325
A7: 5 | B7: 1.07 | C7: 1.33 | D7: 8.79 | E7: 10.93 | G7: =B7-B7*50% -> 0.535 | H7: =C7+(C7*50%) -> 1.995 | I7: =D7-(D7*50%) -> 4.395 | J7: =E7+(E7*50%) -> 16.395
A8: 6 | B8: 0.8 | C8: 0.91 | D8: 6.55 | E8: 7.49 | G8: =B8-B8*50% -> 0.4 | H8: =C8+(C8*50%) -> 1.365 | I8: =D8-(D8*50%) -> 3.275 | J8: =E8+(E8*50%) -> 11.235
A9: 7 | B9: 0.95 | C9: 1 | D9: 7.82 | E9: 8.19 | G9: =B9-B9*50% -> 0.475 | H9: =C9+(C9*50%) -> 1.5 | I9: =D9-(D9*50%) -> 3.91 | J9: =E9+(E9*50%) -> 12.285
A10: 8 | B10: 1 | C10: 1.13 | D10: 8.21 | E10: 9.3 | G10: =B10-B10*50% -> 0.5 | H10: =C10+(C10*50%) -> 1.695 | I10: =D10-(D10*50%) -> 4.105 | J10: =E10+(E10*50%) -> 13.95
A11: 9 | B11: 0.55 | C11: 0.58 | D11: 4.5 | E11: 4.78 | G11: =B11-B11*50% -> 0.275 | H11: =C11+(C11*50%) -> 0.87 | I11: =D11-(D11*50%) -> 2.25 | J11: =E11+(E11*50%) -> 7.17
A12: 10 | B12: 0.87 | C12: 1.11 | D12: 7.11 | E12: 9.12 | G12: =B12-B12*50% -> 0.435 | H12: =C12+(C12*50%) -> 1.665 | I12: =D12-(D12*50%) -> 3.555 | J12: =E12+(E12*50%) -> 13.68
A13: 11 | B13: 1.07 | C13: 1.52 | D13: 8.8 | E13: 12.45 | G13: =B13-B13*50% -> 0.535 | H13: =C13+(C13*50%) -> 2.28 | I13: =D13-(D13*50%) -> 4.4 | J13: =E13+(E13*50%) -> 18.675
A14: 12 | B14: 0.72 | C14: 1.04 | D14: 5.9 | E14: 8.5 | G14: =B14-B14*50% -> 0.36 | H14: =C14+(C14*50%) -> 1.56 | I14: =D14-(D14*50%) -> 2.95 | J14: =E14+(E14*50%) -> 12.75
A15: 13 | B15: 0.92 | C15: 1.16 | D15: 7.55 | E15: 9.48 | G15: =B15-B15*50% -> 0.46 | H15: =C15+(C15*50%) -> 1.74 | I15: =D15-(D15*50%) -> 3.775 | J15: =E15+(E15*50%) -> 14.22
... A23: 21 | B23: 1.04 | C23: 1.64 | D23: 8.56 | E23: 13.45 | G23: =B23-B23*50% -> 0.52 | H23: =C23+(C23*50%) -> 2.46 | I23: =D23-(D23*50%) -> 4.28 | J23: =E23+(E23*50%) -> 20.175
A24: 22
A25: 22-bis
A26: 23
A27: 24
A28: 25
A29: 26
A30: 27
A31: 27-bis
A32: 28
A33: 29
A34: 30

Sheet UD
A1: Componenti | B1: Tipo Residenza | C1: Senza Cod Fam | D1: Cod. Cat. | E1: Categoria | F1: Riduzione | G1: Cod Riduzione | H1: % Riduzione Utenza | I1: Conteggio Utenze | J1: Utenza ridotta | K1: % Riduzione Superficie | L1: Sup. Tassata Reale | M1: Sup. Ridotta
A2: 0 | B2: Non Res. | D2: D-001 | E2: CAT. 1 - ABITAZIONE | F2: Senza riduzione | I2: 0 | J2: 0 | L2: 0 | N2: Vedi fg. "Non residenti"
A3: 0 | B3: Non Res. | C3: TRUE | D3: D-001 | E3: CAT. 1 - ABITAZIONE | F3: Senza riduzione | I3: 0 | J3: =I3 -> 0 | L3: 0
A4: 2 | B4: Non Res. | D4: D-001 | E4: CAT. 1 - ABITAZIONE | F4: Senza riduzione | I4: 0 | J4: =I4 -> 0 | L4: 0
A5: 4 | B5: Non Res. | D5: D-001 | E5: CAT. 1 - ABITAZIONE | F5: Senza riduzione | I5: 0 | J5: 0 | L5: 0
A6: 0 | B6: Non Res. | D6: D-002 | E6: CAT. 1 - PERTINENZA ABITAZIONE | F6: Senza riduzione | I6: 0 | J6: 0 | L6: 0
A7: 0 | B7: Non Res. | C7: TRUE | D7: D-002 | E7: CAT. 1 - PERTINENZA ABITAZIONE | F7: Senza riduzione | I7: 0 | J7: 0 | L7: 0
A8: 2 | B8: Non Res. | D8: D-002 | E8: CAT. 1 - PERTINENZA ABITAZIONE | F8: Senza riduzione | I8: 0 | J8: 0 | L8: 0
A10: 1 OCCUPANTE | B10: Residenti | D10: D-001 | E10: CAT. 1 - ABITAZIONE | F10: Senza riduzione | G10: 1 | H10: =IF(G10>0,VLOOKUP(G10,RiduzioniUD!$B$2:$C$3,2),0) -> 0 | I10: 0 | J10: =I10-(I10*H10) -> 0 | K10: =IF(G10>0,VLOOKUP(G10,RiduzioniUD!$B$2:$C$3,2),0) -> 0 | L10: 0 | M10: =L10-(L10*K10) -> 0
B11: Residenti | C11: TRUE | D11: D-001 | E11: CAT. 1 - ABITAZIONE | F11: Senza riduzione | G11: 1 | H11: =IF(G11>0,VLOOKUP(G11,RiduzioniUD!$B$2:$C$3,2),0) -> 0 | I11: 0 | J11: =I11-(I11*H11) -> 0 | K11: =IF(G11>0,VLOOKUP(G11,RiduzioniUD!$B$2:$C$3,2),0) -> 0 | L11: 0 | M11: =L11-(L11*K11) -> 0
B12: Residenti | D12: D-002 | E12: CAT. 1 - PERTINENZA ABITAZIONE | F12: Senza riduzione | G12: 1 | H12: 1 | I12: 0 | J12: =I12-(I12*H12) -> 0 | K12: =IF(G12>0,VLOOKUP(G12,RiduzioniUD!$B$2:$C$3,2),0) -> 0 | L12: 0 | M12: =L12-(L12*K12) -> 0
B13: Residenti | C13: TRUE | D13: D-002 | E13: CAT. 1 - PERTINENZA ABITAZIONE | F13: Senza riduzione | G13: 1 | H13: 1 | I13: 0 | J13: =I13-(I13*H13) -> 0 | K13: =IF(G13>0,VLOOKUP(G13,RiduzioniUD!$B$2:$C$3,2),0) -> 0 | L13: 0 | M13: =L13-(L13*K13) -> 0
B14: Residenti | D14: D-003 | E14: CAT. 1 - RESIDENTI CASE DI CURA | F14: Senza riduzione | G14: 2 | H14: =IF(G14>0,VLOOKUP(G14,RiduzioniUD!$B$2:$C$3,2),0) -> 0 | I14: 0 | J14: =I14-(I14*H14) -> 0 | K14: =IF(G14>0,VLOOKUP(G14,RiduzioniUD!$B$2:$C$3,2),0) -> 0 | L14: 0 | M14: =L14-(L14*K14) -> 0
B15: Non Res. | D15: D-001 | E15: CAT. 1 - ABITAZIONE | F15: Senza riduzione | G15: 1 | H15: =IF(G15>0,VLOOKUP(G15,RiduzioniUD!$B$2:$C$3,2),0) -> 0 | I15: 0 | J15: =I15-(I15*H15) -> 0 | K15: =IF(G15>0,VLOOKUP(G15,RiduzioniUD!$B$2:$C$3,2),0) -> 0 | L15: 0 | M15: =L15-(L15*K15) -> 0
B16: Non Res. | D16: D-002 | E16: CAT. 1 - PERTINENZA ABITAZIONE | F16: Senza riduzione | G16: 1 | H16: 1 | I16: 0 | J16: =I16-(I16*H16) -> 0 | K16: =IF(G16>0,VLOOKUP(G16,RiduzioniUD!$B$2:$C$3,2),0) -> 0 | L16: 0 | M16: =L16-(L16*K16) -> 0
B17: TOTALE 1 OCCUPANTE | I17: =SUM(I10:I14) -> 0 | J17: =SUM(J10:J14) -> 0 | L17: =SUM(L10:L14) -> 0 | M17: =SUM(M10:M14) -> 0
A19: 2 OCCUPANTI | B19: Residenti | D19: D-001 | E19: CAT. 1 - ABITAZIONE | F19: Senza riduzione | H19: =IF(G19>0,VLOOKUP(G19,RiduzioniUD!$B$2:$C$3,2),0) -> 0 | I19: 0 | J19: =I19-(I19*H19) -> 0 | K19: =IF(G19>0,VLOOKUP(G19,RiduzioniUD!$B$2:$C$3,2),0) -> 0 | L19: 0 | M19: =L19-(L19*K19) -> 0
B20: Residenti | C20: TRUE | D20: D-001 | E20: CAT. 1 - ABITAZIONE | F20: Senza riduzione | H20: =IF(G20>0,VLOOKUP(G20,RiduzioniUD!$B$2:$C$3,2),0) -> 0 | I20: 0 | J20: =I20-(I20*H20) -> 0 | K20: =IF(G20>0,VLOOKUP(G20,RiduzioniUD!$B$2:$C$3,2),0) -> 0 | L20: 0 | M20: =L20-(L20*K20) -> 0
B21: Residenti | D21: D-002 | E21: CAT. 1 - PERTINENZA ABITAZIONE | F21: Senza riduzione | H21: 1 | I21: 0 | J21: =I21-(I21*H21) -> 0 | K21: =IF(G21>0,VLOOKUP(G21,RiduzioniUD!$B$2:$C$3,2),0) -> 0 | L21: 0 | M21: =L21-(L21*K21) -> 0
B22: Residenti | C22: TRUE | D22: D-002 | E22: CAT. 1 - PERTINENZA ABITAZIONE | F22: Senza riduzione | H22: 1 | I22: 0 | J22: =I22-(I22*H22) -> 0 | K22: =IF(G22>0,VLOOKUP(G22,RiduzioniUD!$B$2:$C$3,2),0) -> 0 | L22: 0 | M22: =L22-(L22*K22) -> 0
B23: Non Res. | D23: D-001 | E23: CAT. 1 - ABITAZIONE | F23: Senza riduzione | H23: =IF(G23>0,VLOOKUP(G23,RiduzioniUD!$B$2:$C$3,2),0) -> 0 | I23: 0 | J23: =I23-(I23*H23) -> 0 | K23: =IF(G23>0,VLOOKUP(G23,RiduzioniUD!$B$2:$C$3,2),0) -> 0 | L23: 0 | M23: =L23-(L23*K23) -> 0
B24: Non Res. | D24: D-002 | E24: CAT. 1 - PERTINENZA ABITAZIONE | F24: Senza riduzione | H24: 1 | I24: 0 | J24: =I24-(I24*H24) -> 0 | K24: =IF(G24>0,VLOOKUP(G24,RiduzioniUD!$B$2:$C$3,2),0) -> 0 | L24: 0 | M24: =L24-(L24*K24) -> 0
B25: TOTALE 2 OCCUPANTI | I25: =SUM(I19:I22) -> 0 | J25: =SUM(J19:J24) -> 0 | L25: =SUM(L19:L24) -> 0 | M25: =SUM(M19:M24) -> 0
A27: 3 OCCUPANTI | B27: Residenti | D27: D-001 | E27: CAT. 1 - ABITAZIONE | F27: Senza riduzione | H27: =IF(G27>0,VLOOKUP(G27,RiduzioniUD!$B$2:$C$3,2),0) -> 0 | I27: 0 | J27: =I27-(I27*H27) -> 0 | K27: =IF(G27>0,VLOOKUP(G27,RiduzioniUD!$B$2:$C$3,2),0) -> 0 | L27: 0 | M27: =L27-(L27*K27) -> 0
B28: Residenti | C28: TRUE | D28: D-001 | E28: CAT. 1 - ABITAZIONE | F28: Senza riduzione | H28: =IF(G28>0,VLOOKUP(G28,RiduzioniUD!$B$2:$C$3,2),0) -> 0 | I28: 0 | J28: =I28-(I28*H28) -> 0 | K28: =IF(G28>0,VLOOKUP(G28,RiduzioniUD!$B$2:$C$3,2),0) -> 0 | L28: 0 | M28: =L28-(L28*K28) -> 0
B29: Residenti | D29: D-002 | E29: CAT. 1 - PERTINENZA ABITAZIONE | F29: Senza riduzione | H29: 1 | I29: 0 | J29: =I29-(I29*H29) -> 0 | K29: =IF(G29>0,VLOOKUP(G29,RiduzioniUD!$B$2:$C$3,2),0) -> 0 | L29: 0 | M29: =L29-(L29*K29) -> 0
B30: Residenti | C30: TRUE | D30: D-002 | E30: CAT. 1 - PERTINENZA ABITAZIONE | F30: Senza riduzione | H30: 1 | I30: 0 | J30: =I30-(I30*H30) -> 0 | K30: =IF(G30>0,VLOOKUP(G30,RiduzioniUD!$B$2:$C$3,2),0) -> 0 | L30: 0 | M30: =L30-(L30*K30) -> 0
B31: Non Res. | D31: D-001 | E31: CAT. 1 - ABITAZIONE | F31: Senza riduzione | H31: =IF(G31>0,VLOOKUP(G31,RiduzioniUD!$B$2:$C$3,2),0) -> 0 | I31: 0 | J31: =I31-(I31*H31) -> 0 | K31: =IF(G31>0,VLOOKUP(G31,RiduzioniUD!$B$2:$C$3,2),0) -> 0 | L31: 0 | M31: =L31-(L31*K31) -> 0
B32: Non Res. | D32: D-002 | E32: CAT. 1 - PERTINENZA ABITAZIONE | F32: Senza riduzione | H32: 1 | I32: 0 | J32: =I32-(I32*H32) -> 0 | K32: =IF(G32>0,VLOOKUP(G32,RiduzioniUD!$B$2:$C$3,2),0) -> 0 | L32: 0 | M32: =L32-(L32*K32) -> 0
B33: TOTALE 3 OCCUPANTI | I33: =SUM(I27:I30) -> 0 | J33: =SUM(J27:J32) -> 0 | L33: =SUM(L27:L32) -> 0 | M33: =SUM(M27:M32) -> 0
A35: 4 OCCUPANTI | B35: Residenti | D35: D-001 | E35: CAT. 1 - ABITAZIONE | F35: Senza riduzione | H35: =IF(G35>0,VLOOKUP(G35,RiduzioniUD!$B$2:$C$3,2),0) -> 0 | I35: 0 | J35: =I35-(I35*H35) -> 0 | K35: =IF(G35>0,VLOOKUP(G35,RiduzioniUD!$B$2:$C$3,2),0) -> 0 | L35: 0 | M35: =L35-(L35*K35) -> 0
B36: Residenti | C36: TRUE | D36: D-001 | E36: CAT. 1 - ABITAZIONE | F36: Senza riduzione | H36: =IF(G36>0,VLOOKUP(G36,RiduzioniUD!$B$2:$C$3,2),0) -> 0 | I36: 0 | J36: =I36-(I36*H36) -> 0 | K36: =IF(G36>0,VLOOKUP(G36,RiduzioniUD!$B$2:$C$3,2),0) -> 0 | L36: 0 | M36: =L36-(L36*K36) -> 0
B37: Residenti | D37: D-002 | E37: CAT. 1 - PERTINENZA ABITAZIONE | F37: Senza riduzione | H37: 1 | I37: 0 | J37: =I37-(I37*H37) -> 0 | K37: =IF(G37>0,VLOOKUP(G37,RiduzioniUD!$B$2:$C$3,2),0) -> 0 | L37: 0 | M37: =L37-(L37*K37) -> 0
B38: Residenti | C38: TRUE | D38: D-002 | E38: CAT. 1 - PERTINENZA ABITAZIONE | F38: Senza riduzione | H38: 1 | I38: 0 | J38: =I38-(I38*H38) -> 0 | K38: =IF(G38>0,VLOOKUP(G38,RiduzioniUD!$B$2:$C$3,2),0) -> 0 | L38: 0 | M38: =L38-(L38*K38) -> 0
B39: Non Res. | D39: D-001 | E39: CAT. 1 - ABITAZIONE | F39: Senza riduzione | H39: =IF(G39>0,VLOOKUP(G39,RiduzioniUD!$B$2:$C$3,2),0) -> 0 | I39: 0 | J39: =I39-(I39*H39) -> 0 | K39: =IF(G39>0,VLOOKUP(G39,RiduzioniUD!$B$2:$C$3,2),0) -> 0 | L39: 0 | M39: =L39-(L39*K39) -> 0
B40: Non Res. | D40: D-002 | E40: CAT. 1 - PERTINENZA ABITAZIONE | F40: Senza riduzione | H40: 1 | I40: 0 | J40: =I40-(I40*H40) -> 0 | K40: =IF(G40>0,VLOOKUP(G40,RiduzioniUD!$B$2:$C$3,2),0) -> 0 | L40: 0 | M40: =L40-(L40*K40) -> 0
B41: TOTALE 4 OCCUPANTI | I41: =SUM(I34:I38) -> 0 | J41: =SUM(J35:J40) -> 0 | L41: =SUM(L35:L40) -> 0 | M41: =SUM(M35:M40) -> 0
A43: 5 OCCUPANTI | B43: Residenti | D43: D-001 | E43: CAT. 1 - ABITAZIONE | F43: Senza riduzione | H43: =IF(G43>0,VLOOKUP(G43,RiduzioniUD!$B$2:$C$3,2),0) -> 0 | I43: 0 | J43: =I43-(I43*H43) -> 0 | K43: =IF(G43>0,VLOOKUP(G43,RiduzioniUD!$B$2:$C$3,2),0) -> 0 | L43: 0 | M43: =L43-(L43*K43) -> 0
B44: Residenti | C44: TRUE | D44: D-001 | E44: CAT. 1 - ABITAZIONE | F44: Senza riduzione | H44: =IF(G44>0,VLOOKUP(G44,RiduzioniUD!$B$2:$C$3,2),0) -> 0 | I44: 0 | J44: =I44-(I44*H44) -> 0 | K44: =IF(G44>0,VLOOKUP(G44,RiduzioniUD!$B$2:$C$3,2),0) -> 0 | L44: 0 | M44: =L44-(L44*K44) -> 0
B45: Residenti | D45: D-002 | E45: CAT. 1 - PERTINENZA ABITAZIONE | F45: Senza riduzione | H45: 1 | I45: 0 | J45: =I45-(I45*H45) -> 0 | K45: =IF(G45>0,VLOOKUP(G45,RiduzioniUD!$B$2:$C$3,2),0) -> 0 | L45: 0 | M45: =L45-(L45*K45) -> 0
B46: Residenti | C46: TRUE | D46: D-002 | E46: CAT. 1 - PERTINENZA ABITAZIONE | F46: Senza riduzione | H46: 1 | I46: 0 | J46: =I46-(I46*H46) -> 0 | K46: =IF(G46>0,VLOOKUP(G46,RiduzioniUD!$B$2:$C$3,2),0) -> 0 | L46: 0 | M46: =L46-(L46*K46) -> 0
B47: Non Res. | D47: D-001 | E47: CAT. 1 - ABITAZIONE | F47: Senza riduzione | H47: =IF(G47>0,VLOOKUP(G47,RiduzioniUD!$B$2:$C$3,2),0) -> 0 | I47: 0 | J47: =I47-(I47*H47) -> 0 | K47: =IF(G47>0,VLOOKUP(G47,RiduzioniUD!$B$2:$C$3,2),0) -> 0 | L47: 0 | M47: =L47-(L47*K47) -> 0
B48: Non Res. | D48: D-002 | E48: CAT. 1 - PERTINENZA ABITAZIONE | F48: Senza riduzione | H48: 1 | I48: 0 | J48: =I48-(I48*H48) -> 0 | K48: =IF(G48>0,VLOOKUP(G48,RiduzioniUD!$B$2:$C$3,2),0) -> 0 | L48: 0 | M48: =L48-(L48*K48) -> 0
B49: TOTALE 5 OCCUPANTI | I49: =SUM(I43:I46) -> 0 | J49: =SUM(J43:J48) -> 0 | L49: =SUM(L43:L48) -> 0 | M49: =SUM(M43:M48) -> 0
A51: 6 O + OCCUPANTI | B51: Residenti | D51: D-001 | E51: CAT. 1 - ABITAZIONE | F51: Senza riduzione | H51: =IF(G51>0,VLOOKUP(G51,RiduzioniUD!$B$2:$C$3,2),0) -> 0 | I51: 0 | J51: =I51-(I51*H51) -> 0 | K51: =IF(G51>0,VLOOKUP(G51,RiduzioniUD!$B$2:$C$3,2),0) -> 0 | L51: 0 | M51: =L51-(L51*K51) -> 0
B52: Residenti | C52: TRUE | D52: D-001 | E52: CAT. 1 - ABITAZIONE | F52: Senza riduzione | H52: =IF(G52>0,VLOOKUP(G52,RiduzioniUD!$B$2:$C$3,2),0) -> 0 | I52: 0 | J52: =I52-(I52*H52) -> 0 | K52: =IF(G52>0,VLOOKUP(G52,RiduzioniUD!$B$2:$C$3,2),0) -> 0 | L52: 0 | M52: =L52-(L52*K52) -> 0
B53: Residenti | D53: D-001 | E53: CAT. 1 - ABITAZIONE | F53: Senza riduzione | H53: =IF(G53>0,VLOOKUP(G53,RiduzioniUD!$B$2:$C$3,2),0) -> 0 | I53: 0 | J53: =I53-(I53*H53) -> 0 | K53: =IF(G53>0,VLOOKUP(G53,RiduzioniUD!$B$2:$C$3,2),0) -> 0 | L53: 0 | M53: =L53-(L53*K53) -> 0
B54: Residenti | D54: D-001 | E54: CAT. 1 - ABITAZIONE | F54: Senza riduzione | H54: =IF(G54>0,VLOOKUP(G54,RiduzioniUD!$B$2:$C$3,2),0) -> 0 | I54: 0 | J54: =I54-(I54*H54) -> 0 | K54: =IF(G54>0,VLOOKUP(G54,RiduzioniUD!$B$2:$C$3,2),0) -> 0 | L54: 0 | M54: =L54-(L54*K54) -> 0
B55: Residenti | D55: D-001 | E55: CAT. 1 - ABITAZIONE | F55: Senza riduzione | H55: =IF(G55>0,VLOOKUP(G55,RiduzioniUD!$B$2:$C$3,2),0) -> 0 | I55: 0 | J55: =I55-(I55*H55) -> 0 | K55: =IF(G55>0,VLOOKUP(G55,RiduzioniUD!$B$2:$C$3,2),0) -> 0 | L55: 0 | M55: =L55-(L55*K55) -> 0
B56: Residenti | D56: D-001 | E56: CAT. 1 - ABITAZIONE | F56: Senza riduzione | H56: =IF(G56>0,VLOOKUP(G56,RiduzioniUD!$B$2:$C$3,2),0) -> 0 | I56: 0 | J56: =I56-(I56*H56) -> 0 | K56: =IF(G56>0,VLOOKUP(G56,RiduzioniUD!$B$2:$C$3,2),0) -> 0 | L56: 0 | M56: =L56-(L56*K56) -> 0
B57: Residenti | D57: D-001 | E57: CAT. 1 - ABITAZIONE | F57: Senza riduzione | H57: =IF(G57>0,VLOOKUP(G57,RiduzioniUD!$B$2:$C$3,2),0) -> 0 | I57: 0 | J57: =I57-(I57*H57) -> 0 | K57: =IF(G57>0,VLOOKUP(G57,RiduzioniUD!$B$2:$C$3,2),0) -> 0 | L57: 0 | M57: =L57-(L57*K57) -> 0
B58: Residenti | D58: D-001 | E58: CAT. 1 - ABITAZIONE | F58: Senza riduzione | H58: =IF(G58>0,VLOOKUP(G58,RiduzioniUD!$B$2:$C$3,2),0) -> 0 | I58: 0 | J58: =I58-(I58*H58) -> 0 | K58: =IF(G58>0,VLOOKUP(G58,RiduzioniUD!$B$2:$C$3,2),0) -> 0 | L58: 0 | M58: =L58-(L58*K58) -> 0
B59: Residenti | D59: D-002 | E59: CAT. 1 - PERTINENZA ABITAZIONE | F59: Senza riduzione | H59: 1 | I59: 0 | J59: =I59-(I59*H59) -> 0 | K59: =IF(G59>0,VLOOKUP(G59,RiduzioniUD!$B$2:$C$3,2),0) -> 0 | L59: 0 | M59: =L59-(L59*K59) -> 0
B60: Residenti | C60: TRUE | D60: D-002 | E60: CAT. 1 - PERTINENZA ABITAZIONE | F60: Senza riduzione | H60: 1 | I60: 0 | J60: =I60-(I60*H60) -> 0 | K60: =IF(G60>0,VLOOKUP(G60,RiduzioniUD!$B$2:$C$3,2),0) -> 0 | L60: 0 | M60: =L60-(L60*K60) -> 0
B61: Residenti | D61: D-002 | E61: CAT. 1 - PERTINENZA ABITAZIONE | F61: Senza riduzione | H61: 1 | I61: 0 | J61: =I61-(I61*H61) -> 0 | K61: =IF(G61>0,VLOOKUP(G61,RiduzioniUD!$B$2:$C$3,2),0) -> 0 | L61: 0 | M61: =L61-(L61*K61) -> 0
B62: Residenti | D62: D-002 | E62: CAT. 1 - PERTINENZA ABITAZIONE | F62: Senza riduzione | H62: 1 | I62: 0 | J62: =I62-(I62*H62) -> 0 | K62: =IF(G62>0,VLOOKUP(G62,RiduzioniUD!$B$2:$C$3,2),0) -> 0 | L62: 0 | M62: =L62-(L62*K62) -> 0
B63: Residenti | D63: D-002 | E63: CAT. 1 - PERTINENZA ABITAZIONE | F63: Senza riduzione | H63: 1 | I63: 0 | J63: =I63-(I63*H63) -> 0 | K63: =IF(G63>0,VLOOKUP(G63,RiduzioniUD!$B$2:$C$3,2),0) -> 0 | L63: 0 | M63: =L63-(L63*K63) -> 0
B64: Residenti | D64: D-002 | E64: CAT. 1 - PERTINENZA ABITAZIONE | F64: Senza riduzione | H64: 1 | I64: 0 | J64: =I64-(I64*H64) -> 0 | K64: =IF(G64>0,VLOOKUP(G64,RiduzioniUD!$B$2:$C$3,2),0) -> 0 | L64: 0 | M64: =L64-(L64*K64) -> 0
B65: Residenti | D65: D-002 | E65: CAT. 1 - PERTINENZA ABITAZIONE | F65: Senza riduzione | H65: 1 | I65: 0 | J65: =I65-(I65*H65) -> 0 | K65: =IF(G65>0,VLOOKUP(G65,RiduzioniUD!$B$2:$C$3,2),0) -> 0 | L65: 0 | M65: =L65-(L65*K65) -> 0
B66: Residenti | D66: D-002 | E66: CAT. 1 - PERTINENZA ABITAZIONE | F66: Senza riduzione | H66: 1 | I66: 0 | J66: =I66-(I66*H66) -> 0 | K66: =IF(G66>0,VLOOKUP(G66,RiduzioniUD!$B$2:$C$3,2),0) -> 0 | L66: 0 | M66: =L66-(L66*K66) -> 0
B67: Non Res. | D67: D-001 | E67: CAT. 1 - ABITAZIONE | F67: Senza riduzione | H67: =IF(G67>0,VLOOKUP(G67,RiduzioniUD!$B$2:$C$3,2),0) -> 0 | I67: 0 | J67: =I67-(I67*H67) -> 0 | K67: =IF(G67>0,VLOOKUP(G67,RiduzioniUD!$B$2:$C$3,2),0) -> 0 | L67: 0 | M67: =L67-(L67*K67) -> 0
B68: Non Res. | D68: D-002 | E68: CAT. 1 - PERTINENZA ABITAZIONE | F68: Senza riduzione | H68: 1 | I68: 0 | J68: =I68-(I68*H68) -> 0 | K68: =IF(G68>0,VLOOKUP(G68,RiduzioniUD!$B$2:$C$3,2),0) -> 0 | L68: 0 | M68: =L68-(L68*K68) -> 0
B69: TOTALE 6 O + OCCUPANTI | I69: =SUM(I51:I66) -> 0 | J69: =SUM(J51:J66) -> 0 | L69: =SUM(L51:L66) -> 0 | M69: =SUM(M51:M66) -> 0

Sheet RiduzioniUD
A1: Descrizione | B1: codice | C1: %riduzione
A2: ='DATI INPUT'!A142:B142 -> Unico Occupante | B2: 1 | C2: ='DATI INPUT'!D142 -> 0
A3: ='DATI INPUT'!A143:B143 -> 0 | B3: 2 | C3: ='DATI INPUT'!D143 -> 0
